BEGIN:VCALENDAR
VERSION:2.0
PRODID:-//ChamberMaster//Event Calendar 2.0//EN
METHOD:PUBLISH
X-PUBLISHED-TTL:P3D
REFRESH-INTERVAL:P3D
CALSCALE:GREGORIAN
BEGIN:VEVENT
DTSTART:20131115T230000Z
DTEND:20131116T020000Z
X-MICROSOFT-CDO-ALLDAYEVENT:FALSE
SUMMARY:Downtown Farmers Holiday Market
DESCRIPTION:Downtown Farmers Holiday Market in historic downtown St. George. Farmers and localy made arts\, crafts seasonal produce will be available at this market. Farmers will be bringing apples\, apple cider\, cheeses\, freshly baked breads\, local honey\, nuts\, and more. Local artisans will be selling jewelry\, leather and fabric goods\, lotions\, soaps\, pottery\, handmade cards. Locally made in Washington and Iron County. Ancestor Square is a beautiful place to spend time on a Friday night. We feature live music on center stage\, November 15th will feature Brad Bateman and the Sundogs.
X-ALT-DESC;FMTTYPE=text/html:Downtown Farmers Holiday Market in historic downtown St. George. Farmers and localy made arts\, crafts seasonal produce will be available at this market. Farmers will be bringing apples\, apple cider\, cheeses\, freshly baked breads\, local honey\, nuts\, and more. Local artisans will be selling jewelry\, leather and fabric goods\, lotions\, soaps\, pottery\, handmade cards. Locally made in Washington and Iron County. Ancestor Square is a beautiful place to spend time on a Friday night. We feature live music on center stage\, November 15th will feature Brad Bateman and the Sundogs. 
LOCATION:2 West St. George Blvd in the Square of Ancestor Square. (Main & St. George Blvd.)
UID:e.1117.4951
SEQUENCE:3
DTSTAMP:20260421T200835Z
URL:https://business.stgeorgechamber.com/events/details/downtown-farmers-holiday-market-11-15-2013-4951
END:VEVENT

END:VCALENDAR
