BEGIN:VCALENDAR
VERSION:2.0
PRODID:-//ChamberMaster//Event Calendar 2.0//EN
METHOD:PUBLISH
X-PUBLISHED-TTL:P3D
REFRESH-INTERVAL:P3D
CALSCALE:GREGORIAN
BEGIN:VEVENT
DTSTART:20150425T180000Z
DTEND:20150425T180000Z
X-MICROSOFT-CDO-ALLDAYEVENT:FALSE
SUMMARY:Dove Center Spring Gala
DESCRIPTION:Save the Date A Night of Inspiration "The Spring Charity Gala".  Join us on April 25th to hear the inspirational and courageous story of the Broberg family from Mary Ann Broberg\, author of Stolen Innocence. This story is remarkable and sure to touch your heart. The book will be available for purchase and author's signing at the event.
X-ALT-DESC;FMTTYPE=text/html:Save the Date A Night of Inspiration &quot\;The Spring Charity Gala&quot\;. &nbsp\;Join us on April 25th to hear the inspirational and courageous story of the Broberg family from Mary Ann Broberg\, author of Stolen Innocence. This story is remarkable and sure to touch your heart. The book will be available for purchase and author&#39\;s signing at the event.
LOCATION:Sun River Ballroom 4275 S Country Club Dr Saint George\, UT 84790
UID:e.1117.6391
SEQUENCE:3
DTSTAMP:20260420T172818Z
URL:https://business.stgeorgechamber.com/events/details/dove-center-spring-gala-04-25-2015-6391
END:VEVENT

END:VCALENDAR
