BEGIN:VCALENDAR
VERSION:2.0
PRODID:-//ChamberMaster//Event Calendar 2.0//EN
METHOD:PUBLISH
X-PUBLISHED-TTL:P3D
REFRESH-INTERVAL:P3D
CALSCALE:GREGORIAN
BEGIN:VEVENT
DTSTART:20131211T013000Z
DTEND:20131211T030000Z
X-MICROSOFT-CDO-ALLDAYEVENT:FALSE
SUMMARY:Don't Laugh At Me
DESCRIPTION:The ?Don?t Laugh at Me Players? are a group of people with disabilities who perform songs and skits that depict how everyone should interact with people who have a disability. It is designed for all ages\, it makes you laugh\, cry\, think\, and most of all\, teaches you to treat everyone with dignity and respect. They invite everyone to attend their annual free Christmas performance. Please join us as we bring in the Christmas cheer!
X-ALT-DESC;FMTTYPE=text/html:The ?Don?t Laugh at Me Players? are a group of people with disabilities who perform songs and skits that depict how everyone should interact with people who have a disability. It is designed for all ages\, it makes you laugh\, cry\, think\, and most of all\, teaches you to treat everyone with dignity and respect. They invite everyone to attend their annual free Christmas performance. Please join us as we bring in the Christmas cheer!
LOCATION:Opera House
UID:e.1117.4983
SEQUENCE:3
DTSTAMP:20260421T171159Z
URL:https://business.stgeorgechamber.com/events/details/don-t-laugh-at-me-12-10-2013-4983
END:VEVENT

END:VCALENDAR
