BEGIN:VCALENDAR
VERSION:2.0
PRODID:-//ChamberMaster//Event Calendar 2.0//EN
METHOD:PUBLISH
X-PUBLISHED-TTL:P3D
REFRESH-INTERVAL:P3D
CALSCALE:GREGORIAN
BEGIN:VEVENT
DTSTART:20160730T010000Z
DTEND:20160730T030000Z
X-MICROSOFT-CDO-ALLDAYEVENT:FALSE
SUMMARY:DOCUTAH @ The Electric presents "The Great American Cowboy"
DESCRIPTION:Dixie State University and DOCUTAH@TheELECTRIC brings a film to the St. George community which strikes a significant chord in the history of the desert Southwest. Directed by Kieth Merrill\, this Oscar-winning film tells the exciting true story of this vanishing American and his special kind of freedom. Screenings hosted by Kieth Merrill\n \n\nAugust 26: The Electric Theater\, St. George\, 7 PM \n\n"The Champions"\n\nDirector/Producer Darcy Dennett's film tells the inspirational story about the pit bulls rescued from the brutal fighting ring of former Atlanta Falcon's star quarterback Michael Vick\, and those who risked it all to save them. This uplifting documentary takes us on a journey about much more than just dogs about prejudice\, being misunderstood\, the power of resilience\, and the significance of the relationship we as humans have with animals.\n \n\nDOCUTAH International Documentary Film Festival\n\nSeptember 6   10\, 2016\n\nEnlighten\, Entertain\, and Envision the world through documentary film
X-ALT-DESC;FMTTYPE=text/html:<p dir="ltr" style="MARGIN-BOTTOM: 0pt\; MARGIN-TOP: 0pt\; LINE-HEIGHT: 1.8"><span style="FONT-SIZE: 14px\; FONT-FAMILY: Arial\; VERTICAL-ALIGN: baseline\; WHITE-SPACE: pre-wrap\; COLOR: rgb(0\,0\,0)">Dixie State University and </span><a href="http://www.docutah.com/" style="TEXT-DECORATION: none"><span style="FONT-SIZE: 14px\; TEXT-DECORATION: underline\; FONT-FAMILY: Arial\; VERTICAL-ALIGN: baseline\; WHITE-SPACE: pre-wrap\; COLOR: rgb(0\,0\,255)">DOCUTAH@TheELECTRIC</span></a><span style="FONT-SIZE: 14px\; FONT-FAMILY: Arial\; VERTICAL-ALIGN: baseline\; WHITE-SPACE: pre-wrap\; COLOR: rgb(0\,0\,0)"> brings a film to the St. George community which strikes a significant chord in the history of the desert Southwest. </span><span style="FONT-SIZE: 14px\; FONT-FAMILY: Arial\; VERTICAL-ALIGN: baseline\; WHITE-SPACE: pre-wrap\; COLOR: rgb(17\,17\,17)\; BACKGROUND-COLOR: transparent">D</span><span style="color: rgb(0\, 0\, 0)\; font-family: Arial\; font-size: 14px\; white-space: pre-wrap\; line-height: 1.8\; background-color: transparent\;">irected by </span>Kieth<span style="color: rgb(0\, 0\, 0)\; font-family: Arial\; font-size: 14px\; white-space: pre-wrap\; line-height: 1.8\; background-color: transparent\;"> Merrill\, this Oscar-winning film tells the exciting true story of this vanishing American and his special kind of freedom. Screenings hosted by </span>Kieth<span style="color: rgb(0\, 0\, 0)\; font-family: Arial\; font-size: 14px\; white-space: pre-wrap\; line-height: 1.8\; background-color: transparent\;"> Merrill</span></p>\n&nbsp\;\n\n<p dir="ltr" style="MARGIN-BOTTOM: 0pt\; MARGIN-TOP: 0pt\; LINE-HEIGHT: 1.8"><span style="FONT-SIZE: 14px\; FONT-FAMILY: Arial\; VERTICAL-ALIGN: baseline\; WHITE-SPACE: pre-wrap\; COLOR: rgb(0\,0\,0)\; BACKGROUND-COLOR: transparent">August 26: The Electric Theater\, St. George\, 7 PM </span></p>\n\n<p dir="ltr" style="MARGIN-BOTTOM: 0pt\; MARGIN-TOP: 0pt\; LINE-HEIGHT: 1.8"><a href="http://www.championsdocumentary.com/" style="TEXT-DECORATION: none"><span style="FONT-SIZE: 14px\; TEXT-DECORATION: underline\; FONT-FAMILY: Arial\; VERTICAL-ALIGN: baseline\; WHITE-SPACE: pre-wrap\; FONT-WEIGHT: 700\; COLOR: rgb(0\,0\,255)\; BACKGROUND-COLOR: transparent">&ldquo\;The Champions</span><span style="FONT-SIZE: 14px\; TEXT-DECORATION: underline\; FONT-FAMILY: Arial\; VERTICAL-ALIGN: baseline\; WHITE-SPACE: pre-wrap\; COLOR: rgb(0\,0\,255)\; BACKGROUND-COLOR: transparent">&rdquo\;</span></a></p>\n\n<p dir="ltr" style="MARGIN-BOTTOM: 0pt\; MARGIN-TOP: 0pt\; LINE-HEIGHT: 1.8"><span style="FONT-SIZE: 14px\; FONT-FAMILY: Arial\; VERTICAL-ALIGN: baseline\; WHITE-SPACE: pre-wrap\; COLOR: rgb(0\,0\,0)\; BACKGROUND-COLOR: transparent">Director/Producer Darcy Dennett&rsquo\;s film tells the inspirational story about the pit bulls rescued from the brutal fighting ring of former Atlanta Falcon&rsquo\;s star quarterback Michael Vick\, and those who risked it all to save them. This uplifting documentary takes us on a journey about much more than just dogs&mdash\;about prejudice\, being misunderstood\, the power of resilience\, and the significance of the relationship we as humans have with animals.</span></p>\n&nbsp\;\n\n<p dir="ltr" style="MARGIN-BOTTOM: 0pt\; MARGIN-TOP: 0pt\; LINE-HEIGHT: 1.8"><a href="http://docutah.com/" style="TEXT-DECORATION: none"><span style="FONT-SIZE: 14px\; TEXT-DECORATION: underline\; FONT-FAMILY: Arial\; VERTICAL-ALIGN: baseline\; WHITE-SPACE: pre-wrap\; FONT-WEIGHT: 700\; COLOR: rgb(0\,0\,255)\; BACKGROUND-COLOR: transparent">DOCUTAH International Documentary Film Festival</span></a></p>\n\n<p dir="ltr" style="MARGIN-BOTTOM: 0pt\; MARGIN-TOP: 0pt\; LINE-HEIGHT: 1.8"><span style="FONT-SIZE: 14px\; FONT-FAMILY: Arial\; VERTICAL-ALIGN: baseline\; WHITE-SPACE: pre-wrap\; FONT-WEIGHT: 700\; COLOR: rgb(0\,0\,0)\; BACKGROUND-COLOR: transparent">September 6 &ndash\; 10\, 2016</span></p>\n\n<p dir="ltr" style="MARGIN-BOTTOM: 0pt\; MARGIN-TOP: 0pt\; LINE-HEIGHT: 1.8"><span style="FONT-SIZE: 14px\; FONT-FAMILY: Arial\; VERTICAL-ALIGN: baseline\; WHITE-SPACE: pre-wrap\; FONT-WEIGHT: 700\; COLOR: rgb(0\,0\,0)\; BACKGROUND-COLOR: transparent">Enlighten\, Entertain\, and Envision the world through documentary film</span></p>\n
LOCATION:The Electric Theater
UID:e.1117.9037
SEQUENCE:3
DTSTAMP:20260419T165525Z
URL:https://business.stgeorgechamber.com/events/details/docutah-the-electric-presents-the-great-american-cowboy-07-29-2016-9037
END:VEVENT

END:VCALENDAR
