BEGIN:VCALENDAR
VERSION:2.0
PRODID:-//ChamberMaster//Event Calendar 2.0//EN
METHOD:PUBLISH
X-PUBLISHED-TTL:P3D
REFRESH-INTERVAL:P3D
CALSCALE:GREGORIAN
BEGIN:VEVENT
DTSTART:20160827T010000Z
DTEND:20160827T030000Z
X-MICROSOFT-CDO-ALLDAYEVENT:FALSE
SUMMARY:DOCUTAH @ The Electric presents "The Champions"
DESCRIPTION:On August 26th\, The Dixie State University DOCUTAH@TheELECTRIC series screens The Champions\, produced and directed by award winning filmmaker\, Darcy Dennett and featuring the work of Best Friends Animal Society. The film "is an inspirational story about the pit bulls rescued from the brutal fighting ring of former Atlanta Falcon's star quarterback Michael Vick. It is a story of second-chances\, redemption and hope. This uplifting documentary takes us on a journey about much more than just dogs {but also} about prejudice\, being misunderstood\, the power of resilience\, and the significance of the relationship we as humans have with animals." \n\n \n\nDennett says\, "There was a growing sense that the dogs were the victims\, but in the beginning I was fearful while filming with them. I consider myself to be relatively brave\, but it seemed like good common sense to use extreme caution while filming in a closed 'run' with a pit bull rescued from a notorious dog-fighting case.\n\n \n\n"No one gave these tragic animals a chance to lead normal lives in a loving environment.  No one except the Best Friends Animal Society\," said Tuckett. "The tag line for the documentary\, which is directed by Darcy Dennett\, More forgiving of our species than we could ever be of theirs\, truly encapsulates the almost miraculous rehabilitation of these dogs and the love that brought them full circle back into the company of humans."\n\n \n\nBest Friends Animal Society agreed to take 22 dogs that no one else could\, the dogs many considered the most challenging.  Best Friends had taken on difficult dogs before in their almost 30 year history\, but this would be their biggest challenge yet\, and they were putting their reputation and more importantly\, that of the entire breed on the line. The documentary The Champions\, follows five of the dogs\, from the time they are first rescued through their adoption.  It is not just about the dogs themselves\, but how they change and inspire the people who come into their lives.  \n\n \n\n"Prior to the Michael Vick case\, the traditional\, historic treatment of dogs from fight busts was simply to regard them as damaged goods and to kill them\," said Francis Battista\, co-founder of Best Friends Animal Society. "All along\, we've been advocating for them to be given a chance. Our experience has shown that there's no need to be afraid of the dogs or blame them\, just because of the situation they came from."\n\n \n\nTickets for The Champions are available for $10 at the door or by reserving Will Call tickets on the Website\, docutah.com. This film wraps up the monthly series for DOCUTAH@TheELECTRIC just ten days before the seventh season of the DOCUTAH International Documentary Film Festival\, which kicks off on September 6.
X-ALT-DESC;FMTTYPE=text/html:<p dir="ltr" style="MARGIN-BOTTOM: 0pt\; MARGIN-TOP: 0pt\; LINE-HEIGHT: 1.8"><span style="font-family:arial\,sans-serif\;"><span style="letter-spacing:0.15pt\;">On August 26<sup>th</sup>\, The Dixie State University DOCUTAH@TheELECTRIC series screens </span></span><a href="http://www.championsdocumentary.com/watch-the-trailer/"><span style="letter-spacing:0.15pt\;"><span style="font-family:arial\,sans-serif\;">The Champions</span></span></a><span style="letter-spacing:0.15pt\;"><span style="font-family:arial\,sans-serif\;">\, produced and directed by award winning filmmaker\, Darcy Dennett and featuring the work of </span></span><a href="http://bestfriends.org/"><span style="letter-spacing:0.15pt\;"><span style="font-family:arial\,sans-serif\;">Best Friends Animal Society</span></span></a><span style="letter-spacing:0.15pt\;"><span style="font-family:arial\,sans-serif\;">. The film &ldquo\;is an inspirational story about the pit bulls rescued from the brutal fighting ring of former Atlanta Falcon&rsquo\;s star quarterback Michael Vick. It is a story of second-chances\, redemption and hope. This uplifting documentary takes us on a journey about much more than just dogs {but also} about prejudice\, being misunderstood\, the power of resilience\, and the significance of the relationship we as humans have with animals.&rdquo\;&nbsp\;</span></span><br />\n&nbsp\;<br />\n<span style="letter-spacing:0.15pt\;"><span style="font-family:arial\,sans-serif\;">Dennett says\, &ldquo\;There was a growing sense that the dogs were the victims\, but in the beginning I was fearful while filming with them. I consider myself to be relatively brave\, but it seemed like good common sense to use extreme caution while filming in a closed &lsquo\;run&rsquo\; with a pit bull rescued from a notorious dog-fighting case.</span></span><br />\n&nbsp\;<br />\n<span style="letter-spacing:0.15pt\;"><span style="font-family:arial\,sans-serif\;">&ldquo\;No one gave these tragic animals a chance to lead normal lives in a loving environment.&nbsp\; No one except the Best Friends Animal Society\,&rdquo\; said Tuckett. &ldquo\;The tag line for the documentary\, which is directed by Darcy Dennett\, <em>More forgiving of our species than we could ever be of theirs</em>\, truly encapsulates the almost miraculous rehabilitation of these dogs and the love that brought them full circle back into the company of humans.&rdquo\;</span></span><br />\n&nbsp\;<br />\n<span style="letter-spacing:0.15pt\;"><span style="font-family:arial\,sans-serif\;">Best Friends Animal Society agreed to take 22 dogs that no one else could\, the dogs many considered the most challenging.&nbsp\; Best Friends had taken on difficult dogs before in their almost 30 year history\, but this would be their biggest challenge yet\, and they were putting their reputation&mdash\;and more importantly\, that of the entire breed&mdash\;on the line. The documentary The Champions\, follows five of the dogs\, from the time they are first rescued through their adoption.&nbsp\; It is not just about the dogs themselves\, but how they change and inspire the people who come into their lives.&nbsp\; </span></span><br />\n&nbsp\;<br />\n<span style="letter-spacing:0.15pt\;"><span style="font-family:arial\,sans-serif\;">&quot\;Prior to the Michael Vick case\, the traditional\, historic treatment of dogs from fight busts was simply to regard them as damaged goods and to kill them\,&quot\; said Francis Battista\, co-founder of Best Friends Animal Society. &quot\;All along\, we&#39\;ve been advocating for them to be given a chance. Our experience has shown that there&#39\;s no need to be afraid of the dogs or blame them\, just because of the situation they came from.&quot\;</span></span><br />\n&nbsp\;<br />\n<span style="font-family:arial\,sans-serif\;">Tickets for <em>The Champions</em> are available for $10 at the door or by reserving Will Call tickets on the Website\, <a href="http://docutah.com/">docutah.com</a>. This film wraps up the monthly series for DOCUTAH@TheELECTRIC just ten days before the seventh season of the DOCUTAH International Documentary Film Festival\, which kicks off on September 6.&nbsp\;</span></p>\n
LOCATION:The Electric Theater
UID:e.1117.9663
SEQUENCE:3
DTSTAMP:20260421T083706Z
URL:https://business.stgeorgechamber.com/events/details/docutah-the-electric-presents-the-champions-08-26-2016-9663
END:VEVENT

END:VCALENDAR
