BEGIN:VCALENDAR
VERSION:2.0
PRODID:-//ChamberMaster//Event Calendar 2.0//EN
METHOD:PUBLISH
X-PUBLISHED-TTL:P3D
REFRESH-INTERVAL:P3D
CALSCALE:GREGORIAN
BEGIN:VEVENT
DTSTART:20150911T010000Z
DTEND:20150911T030000Z
X-MICROSOFT-CDO-ALLDAYEVENT:FALSE
SUMMARY:DocUtah "Soldiers' Stories"
DESCRIPTION:DOCUTAH  International Documentary Film Festival today announced that it has included its first 3D offering in the Festival. "Soldiers' Stories pairs WWI's 3D images with recent veterans' lives\, with narration by Mickey Rooney and voiceover from recent American vets whose personal stories suggest that war never changes for those in the middle of it." According to a review in Deadline\, "The 30-minute film pairs century-old stereoscopic photos taken in the trenches by World War 1 soldiers with narration by Mickey Rooney and voiceover from recent American vets [describing] loneliness\, loss\, intense camaraderie\, bad food\, bad weather\, the adrenaline rush of combat."\n\n"Although the stories which veterans tell always tug at our hearts and inspire our admiration for their courage\, this film\, which combines images from long ago with stories as recent as our current wars\, brings a true understanding of the common experience of the soldier\," said Phil Tuckett\, Artistic Director for DOCUTAH\, associate professor at Dixie State University and the Director of DSU Films. "This is a remarkable addition to the 2015 Festival."\n\nThe 2015 DOCUTAH International Documentary Film Festival is held at Dixie State University in St. George\, Utah. The 2015 Festival\, which kicks off on September 7 with a special inaugural gala at the newly renovated Electric Theater in Saint George\, runs from September 8-12 and includes filmmaker chats\, seminars and gala events\, all within the beautiful scenery of Southern Utah's red rock country. \n\nAbout DOCUTAH\n\nDOCUTAH's mission is to inspire a global connection through independent documentary films and intellectual discussions. DOCUTAH strives to enhance the education of independent filmmakers\, aspiring film students\, citizens of the world and the Community. DOCUTAH is one of the few university-sponsored film festivals in the United States. It is an International pure documentary film festival. As part of Dixie State University's academic component\, DOCUTAH also offers master class seminars and filmmaker panels where student\, amateur and professional filmmakers can discuss and advance their skills in the art of filmmaking. www.docutah.com.
X-ALT-DESC;FMTTYPE=text/html:<span style="font-size:14px\;"><span style="font-family:arial\;"><a href="http://docutah.com/">DOCUTAH</a>&trade\; International Documentary Film Festival today announced that it has included its first 3D offering in the Festival. &ldquo\;<a href="http://docutah.com/showcase/soldiers-stories/"><span style="color:#006EB9\;">Soldiers&rsquo\; Stories</span></a> pairs WWI&rsquo\;s 3D images with recent veterans&rsquo\; lives\, with narration by Mickey Rooney and voiceover from recent American vets whose personal stories suggest that war never changes for those in the middle of it.&rdquo\; According to a review in <a href="http://deadline.com/2014/10/soldiers-stories-3d-world-war-1-nicholas-reed-845533/">Deadline</a>\, &ldquo\;<span style="color:black\;">The 30-minute&nbsp\;film pairs century-old stereoscopic photos taken in the trenches by World War 1 soldiers with narration by&nbsp\;</span>Mickey Rooney<span style="color:black\;">&nbsp\;and voiceover from recent American vets [describing] loneliness\, loss\, intense camaraderie\, bad food\, bad weather\, the adrenaline rush of combat.&rdquo\;</span><br />\n<span style="color:black\;">&ldquo\;Although the stories which veterans tell always tug at our hearts and inspire our admiration for their courage\, this film\, which combines images from long ago with stories as recent as our current wars\, brings a true understanding of the common experience of the soldier\,&rdquo\; said Phil Tuckett\, </span>Artistic Director for DOCUTAH\, associate professor at Dixie State University and the Director of DSU Films.<span style="color:black\;"> &ldquo\;This is a remarkable addition to the 2015 Festival.&rdquo\;</span><br />\n<span style="color:black\;">The 2015 DOCUTAH International Documentary Film Festival is held at Dixie State University in St. George\, Utah. The 2015 Festival\, which kicks off on September 7 with a special inaugural gala at the newly renovated Electric Theater in Saint George\, runs from September 8-12 and includes filmmaker chats\, </span><a href="http://docutah.com/events-2/seminars/">seminars</a><span style="color:black\;"> and </span><a href="http://docutah.com/galas/">gala events</a><span style="color:black\;">\, all within the beautiful scenery of Southern Utah&rsquo\;s red rock country. </span><br />\n<strong><span style="color:black\;">About DOCUTAH</span></strong><br />\n<span style="color:black\;">DOCUTAH&rsquo\;s mission is to inspire a global connection through independent documentary films and intellectual discussions. DOCUTAH strives to enhance the education of independent filmmakers\, aspiring film students\, citizens of the world and the Community. DOCUTAH is one of the few university-sponsored film festivals in the United States. It is an International pure documentary film festival. As part of Dixie State University&rsquo\;s academic component\, DOCUTAH also offers master class seminars and filmmaker panels where student\, amateur and professional filmmakers can discuss and advance their skills in the art of filmmaking. </span><a href="http://www.docutah.com/">www.docutah.com</a><span style="color:black\;">.</span></span></span>
LOCATION:Megaplex Stadium 8
UID:e.1117.7073
SEQUENCE:3
DTSTAMP:20260420T101802Z
URL:https://business.stgeorgechamber.com/events/details/docutah-soldiers-stories-09-10-2015-7073
END:VEVENT

END:VCALENDAR
