BEGIN:VCALENDAR
VERSION:2.0
PRODID:-//ChamberMaster//Event Calendar 2.0//EN
METHOD:PUBLISH
X-PUBLISHED-TTL:P3D
REFRESH-INTERVAL:P3D
CALSCALE:GREGORIAN
BEGIN:VEVENT
DTSTART:20140321T013000Z
DTEND:20140321T040000Z
X-MICROSOFT-CDO-ALLDAYEVENT:FALSE
SUMMARY:DocUtah Screening--"We Women Warrior"
DESCRIPTION:In celebration of Women's History Month this March\, Dixie State University\, DOCUTAH and the Utah Women of Higher Education Network (UWHEN) honor the courage and leadership of women near and far in presenting the screening of the film We Women Warriors.\n\n \n\nWe Women Warriors follows three native women caught in the crossfire of Columbia's warfare who are using nonviolent resistance to defend their people's survival. Following the screening\, a special panel discussion will be presented by UWHEN\, the American Association of University Women (AAUW) and Utah Business Women (UBW). \n\n \n\n"There are a variety of women's organizations in our community\," explains Christina Schultz\, DSU VP of Institutional Advancement. "The goal of this event is to build leadership and to provide networking opportunities for women who may be students\, philanthropists\, academic professionals and or corporate professionals." \n\n \n\nDOCUTAH and UWHEN appreciate the support of UBW\, Morris Murdock Travel\, Red Mountain Resort and Craft Lake City. DOCUTAH provides an opportunity to envision the world through documentary film.
X-ALT-DESC;FMTTYPE=text/html:<span style="color:black\;">In celebration of Women&rsquo\;s History Month this March\, Dixie State University\, DOCUTAH and the Utah Women of Higher Education Network (UWHEN) honor the courage and leadership of women near and far in presenting the screening of the film&nbsp\;<em>We Women Warriors.</em></span><br />\n&nbsp\;<br />\n<em><span style="color:black\;">We Women Warriors</span></em><span style="color:black\;">&nbsp\;follows three native women caught in the crossfire of Columbia&rsquo\;s warfare who are using nonviolent resistance to defend their people&rsquo\;s survival. Following the screening\, a special panel discussion will be presented by&nbsp\;UWHEN\, the American Association of University Women (AAUW) and Utah Business Women (UBW).&nbsp\;</span><br />\n&nbsp\;<br />\n<span style="color:black\;">&ldquo\;There are a variety of women&rsquo\;s organizations in our community\,&rdquo\; explains Christina Schultz\, DSU VP of Institutional Advancement. &ldquo\;The goal of this event is to build leadership and to provide networking opportunities for women who may be students\, philanthropists\, academic professionals and or corporate professionals.&rdquo\;&nbsp\;</span><br />\n&nbsp\;<br />\n<span style="color:black\;">DOCUTAH and UWHEN appreciate the support of UBW\, Morris Murdock Travel\, Red Mountain Resort and Craft Lake City.&nbsp\;DOCUTAH provides an opportunity to envision the world through documentary film.&nbsp\;</span>
LOCATION:Grand Foyer of the DSU Eccles Fine Arts Center 225 S. 700 E. Prior to the screening\, a special reception sponsored by the Red Mountain Resort will be held at the Eccles Center beginning at 5:30 p.m.
UID:e.1117.5097
SEQUENCE:3
DTSTAMP:20260421T125720Z
URL:https://business.stgeorgechamber.com/events/details/docutah-screening-we-women-warrior-03-20-2014-5097
END:VEVENT

END:VCALENDAR
