BEGIN:VCALENDAR
VERSION:2.0
PRODID:-//ChamberMaster//Event Calendar 2.0//EN
METHOD:PUBLISH
X-PUBLISHED-TTL:P3D
REFRESH-INTERVAL:P3D
CALSCALE:GREGORIAN
BEGIN:VEVENT
DTSTART:20130711T000000Z
DTEND:20130711T020000Z
X-MICROSOFT-CDO-ALLDAYEVENT:FALSE
SUMMARY:DocUtah Screening--"Kinderblock 66: Return to Buchenwald"
DESCRIPTION:A movie screening of the 2012 DocUtah Vanguard award winner. "Kinderblock 66: Return to Buchenwald" is a story of four men who return to the concentration camp in which they were imprisoned on the sixty-fifth anniversary of their release.
X-ALT-DESC;FMTTYPE=text/html:<span style="color: rgb(0\, 0\, 0)\; font-family: Arial\, sans-serif\; white-space: pre-wrap\;">A movie screening of the 2012 DocUtah Vanguard award winner. &quot\;Kinderblock 66: Return to Buchenwald&quot\; is a story of four men who return to the concentration camp in which they were imprisoned on the sixty-fifth anniversary of their release.</span>
LOCATION:Washington County Library\, Community Room A
UID:e.1117.4184
SEQUENCE:3
DTSTAMP:20260422T011202Z
URL:https://business.stgeorgechamber.com/events/details/docutah-screening-kinderblock-66-return-to-buchenwald-07-10-2013-4184
END:VEVENT

END:VCALENDAR
