BEGIN:VCALENDAR
VERSION:2.0
PRODID:-//ChamberMaster//Event Calendar 2.0//EN
METHOD:PUBLISH
X-PUBLISHED-TTL:P3D
REFRESH-INTERVAL:P3D
CALSCALE:GREGORIAN
BEGIN:VEVENT
DTSTART:20140426T020000Z
DTEND:20140426T040000Z
X-MICROSOFT-CDO-ALLDAYEVENT:FALSE
SUMMARY:DocUtah Screening--"Gesso: The Art of Street Painting"
DESCRIPTION:"Gesso: the Art of Street Painting" a 90 minute documentary which follows the 6 world renown street painters around the world to show this amazing art-form through their eyes.
X-ALT-DESC;FMTTYPE=text/html:<span style="font-size:14px\;"><span style="font-family:arial\;">&quot\;Gesso: the Art of Street Painting&quot\; a 90 minute documentary which follows the 6 world renown street painters around the world to show this amazing art-form through their eyes. &nbsp\;</span></span>
LOCATION:Kayenta Outdoor Theatre
UID:e.1117.5216
SEQUENCE:3
DTSTAMP:20260421T112746Z
URL:https://business.stgeorgechamber.com/events/details/docutah-screening-gesso-the-art-of-street-painting-04-25-2014-5216
END:VEVENT

END:VCALENDAR
