BEGIN:VCALENDAR
VERSION:2.0
PRODID:-//ChamberMaster//Event Calendar 2.0//EN
METHOD:PUBLISH
X-PUBLISHED-TTL:P3D
REFRESH-INTERVAL:P3D
CALSCALE:GREGORIAN
BEGIN:VEVENT
DTSTART:20140810T023000Z
DTEND:20140810T043000Z
X-MICROSOFT-CDO-ALLDAYEVENT:FALSE
SUMMARY:DocUtah Screening--"El Sistema"
DESCRIPTION:A film screening by DocUtah.\n\nWhat can "El Sistema" accomplish by connecting young people in Caracas\, Venezuela\, one of the most dangerous and poorest areas\, with classical music\, and to what extent can it change their lives? In the film\, three young people are accompanied through their daily lives for a whole year to find out the answer.
X-ALT-DESC;FMTTYPE=text/html:A film screening by DocUtah.<br />\nWhat can &ldquo\;El Sistema&rdquo\; accomplish by connecting young people in Caracas\, Venezuela\, one of the most dangerous and poorest areas\, with classical music\, and to what extent can it change their lives? In the film\, three young people are accompanied through their daily lives for a whole year to find out the answer. &nbsp\;&nbsp\;
LOCATION:Fibonacci Fine Arts 1495 S. Black Ridge Dr. St. George
UID:e.1117.6053
SEQUENCE:3
DTSTAMP:20260421T054703Z
URL:https://business.stgeorgechamber.com/events/details/docutah-screening-el-sistema-08-09-2014-6053
END:VEVENT

END:VCALENDAR
