BEGIN:VCALENDAR
VERSION:2.0
PRODID:-//ChamberMaster//Event Calendar 2.0//EN
METHOD:PUBLISH
X-PUBLISHED-TTL:P3D
REFRESH-INTERVAL:P3D
CALSCALE:GREGORIAN
BEGIN:VEVENT
DTSTART;VALUE=DATE:20150908
DTEND;VALUE=DATE:20150913
TRANSP:TRANSPARENT
X-MICROSOFT-CDO-ALLDAYEVENT:TRUE
SUMMARY:DOCUTAH
DESCRIPTION:DOCUTAH is a Southern Utah International Film Festival\, and since the inaugural event in 2010\, more than 800 films have been submitted from 60 plus countries.  Their tagline   "Come for the films\, stay for the scenery"   invites festival attendees to witness the brilliance of the magnificent red rocks of southern Utah. DOCUTAH isn't just a film festival it's a five day PARTY and every event is one not to be missed.  Their mission is to inspire a global connection through documentary films and intellectual discussion.
X-ALT-DESC;FMTTYPE=text/html:<span style="font-size:14px\;"><strong><span style="font-weight: normal\;">DOCUTAH </span></strong>is a Southern Utah International Film Festival\, and since the inaugural event in 2010\, more than 800 films have been submitted from 60 plus countries.&nbsp\; Their tagline &ndash\; &ldquo\;Come for the films\, stay for the scenery&rdquo\; &ndash\; invites festival attendees to witness the brilliance of the magnificent red rocks of southern Utah. DOCUTAH isn&rsquo\;t just a film festival&hellip\;it&rsquo\;s a five day PARTY and every event is one not to be missed.&nbsp\; Their mission is to inspire a global connection through documentary films and intellectual discussion. </span>
LOCATION:Various locations throughout southern Utah
UID:e.1117.6993
SEQUENCE:3
DTSTAMP:20260420T084138Z
URL:https://business.stgeorgechamber.com/events/details/docutah-09-08-2015-6993
END:VEVENT

END:VCALENDAR
