BEGIN:VCALENDAR
VERSION:2.0
PRODID:-//ChamberMaster//Event Calendar 2.0//EN
METHOD:PUBLISH
X-PUBLISHED-TTL:P3D
REFRESH-INTERVAL:P3D
CALSCALE:GREGORIAN
BEGIN:VEVENT
DTSTART:20160409T233000Z
DTEND:20160410T040000Z
X-MICROSOFT-CDO-ALLDAYEVENT:FALSE
SUMMARY:Doctor's Volunteer Clinic "Spirit of Hope Gala"
DESCRIPTION:The 2016 Spirit of Hope Gala will be held on Saturday\, April 9 2016 at the Dixie Convention Center Garden Room. Tickets are $125 per person\, includes dinner\, silent auction\, cash bar\, and entertainment by professional performer Brodie Perry.
X-ALT-DESC;FMTTYPE=text/html:<span style="color: rgb(0\, 0\, 0)\; font-family: Arimo\, Arial\, 'Arial Unicode MS'\, Helvetica\, sans-serif\; letter-spacing: 1px\; line-height: normal\;">The 2016 Spirit of Hope Gala will be held on Saturday\, April 9 2016 at the Dixie Convention Center Garden Room. Tickets are $125 per person\, includes dinner\, silent auction\, cash bar\, and entertainment by professional performer Brodie Perry.</span>
LOCATION:Dixie Convention Center
UID:e.1117.8539
SEQUENCE:3
DTSTAMP:20260419T220347Z
URL:https://business.stgeorgechamber.com/events/details/doctor-s-volunteer-clinic-spirit-of-hope-gala-04-09-2016-8539
END:VEVENT

END:VCALENDAR
