BEGIN:VCALENDAR
VERSION:2.0
PRODID:-//ChamberMaster//Event Calendar 2.0//EN
METHOD:PUBLISH
X-PUBLISHED-TTL:P3D
REFRESH-INTERVAL:P3D
CALSCALE:GREGORIAN
BEGIN:VEVENT
DTSTART:20140904T010000Z
DTEND:20140904T040000Z
X-MICROSOFT-CDO-ALLDAYEVENT:FALSE
SUMMARY:Doc Utah Film Screening-PROPAGANDA at the DiFiore Center
DESCRIPTION:PROPAGANDA DIRECTOR: Slavko Martinov New Zealand\, 2012\, 96 min. An anti-Western propaganda film about the influences of America?s visual and consumption culture on the rest of the world\, told from a North Korean perspective. CAUTION: THIS CONTENT MAY BE OFFENSIVE TO SOME.
X-ALT-DESC;FMTTYPE=text/html:PROPAGANDA DIRECTOR: Slavko Martinov New Zealand\, 2012\, 96 min. An anti-Western propaganda film about the influences of America?s visual and consumption culture on the rest of the world\, told from a North Korean perspective. CAUTION: THIS CONTENT MAY BE OFFENSIVE TO SOME.
LOCATION:The DiFiore Center
UID:e.1117.6086
SEQUENCE:3
DTSTAMP:20260421T043639Z
URL:https://business.stgeorgechamber.com/events/details/doc-utah-film-screening-propaganda-at-the-difiore-center-09-03-2014-6086
END:VEVENT

END:VCALENDAR
