BEGIN:VCALENDAR
VERSION:2.0
PRODID:-//ChamberMaster//Event Calendar 2.0//EN
METHOD:PUBLISH
X-PUBLISHED-TTL:P3D
REFRESH-INTERVAL:P3D
CALSCALE:GREGORIAN
BEGIN:VEVENT
DTSTART:20140307T190000Z
DTEND:20140307T200000Z
X-MICROSOFT-CDO-ALLDAYEVENT:FALSE
SUMMARY:Dixie Techs Meeting
DESCRIPTION:Dr. Lincoln Nadauld\, Director of Cancer Genomics at Intermountain Healthcare will address the March 7 Tech Friday meeting of the Dixie Technical Association. \n\n \n\nDr. Nadauld received a Bachelor's Degree in Zoology from Brigham Young University.  He went on to complete medical and doctoral degrees (MD/PhD) followed by clinical training at the University of Utah. His doctoral dissertation focused on the molecular genetics of colon cancer.  He completed clinical training in Medical Oncology at Stanford University where he also completed a postdoctoral fellowship in solid tumor genomics in the laboratory of Dr. Calvin Kuo. \n\n\n\nDr. Nadauld then remained on faculty at the Stanford School of Medicine focusing on cancer genomics and personalized cancer medicine.   While retaining an adjunct faculty position at Stanford\, Dr. Nadauld was recently appointed Director of Cancer Genomics at Intermountain Healthcare\, an integrated healthcare system of more than 20 hospitals and 150 clinics\, where he is leading the clinical implementation of genomic-based cancer medicine. He is currently based in St. George.\n\n\n\n"We are fortunate to have Dr. Nadauld in southern Utah\, and we look forward to having him speak to the Techs\," Joshua Aikens\, Dixie Techs chair\, said. "It will be interesting\, not only to hear him talk about his cutting edge technology\, but also hear about his experiences with the big venture capital firms in Silicon Valley."
X-ALT-DESC;FMTTYPE=text/html:Dr. Lincoln Nadauld\, Director of Cancer Genomics at Intermountain Healthcare will address the March 7 Tech Friday meeting of the Dixie Technical Association.&nbsp\;<br />\n&nbsp\;<br />\nDr. Nadauld received a Bachelor&rsquo\;s Degree in Zoology from Brigham Young University.&nbsp\; He went on to complete medical and doctoral degrees (MD/PhD) followed by clinical training at the University of Utah. His doctoral dissertation focused on the molecular genetics of colon cancer.&nbsp\; He completed clinical training in Medical Oncology at Stanford University where he also completed a postdoctoral fellowship in solid tumor genomics in the laboratory of Dr. Calvin Kuo.&nbsp\;<br />\n<br />\nDr. Nadauld then remained on faculty at the Stanford School of Medicine focusing on cancer genomics and personalized cancer medicine.&nbsp\; &nbsp\;While retaining an adjunct faculty position at Stanford\, Dr. Nadauld was recently appointed Director of Cancer Genomics at Intermountain Healthcare\, an integrated healthcare system of more than 20 hospitals and 150 clinics\, where he is leading the clinical implementation of genomic-based cancer medicine. He is currently based in St. George.<br />\n<br />\n&ldquo\;We are fortunate to have Dr. Nadauld in southern Utah\, and we look forward to having him speak to the Techs\,&rdquo\; Joshua Aikens\, Dixie Techs chair\, said. &ldquo\;It will be interesting\, not only to hear him talk about his cutting edge technology\, but also hear about his experiences with the big venture capital firms in Silicon Valley.&rdquo\;
LOCATION:The meeting will take place at the Dixie State University Taylor Health Science Building Auditorium located at 1526 Medical Center Drive at noon.
UID:e.1117.5105
SEQUENCE:3
DTSTAMP:20260421T125400Z
URL:https://business.stgeorgechamber.com/events/details/dixie-techs-meeting-03-07-2014-5105
END:VEVENT

END:VCALENDAR
