BEGIN:VCALENDAR
VERSION:2.0
PRODID:-//ChamberMaster//Event Calendar 2.0//EN
METHOD:PUBLISH
X-PUBLISHED-TTL:P3D
REFRESH-INTERVAL:P3D
CALSCALE:GREGORIAN
BEGIN:VEVENT
DTSTART:20260413T230000Z
DTEND:20260414T010000Z
X-MICROSOFT-CDO-ALLDAYEVENT:FALSE
SUMMARY:DIXIE TECHNICAL COLLEGE | OPEN HOUSE
DESCRIPTION:What To Expect\n\nWe are so excited to show off everything we have to offer not only to prospective students but the community at large including those looking for an education\, a second career\, or new skills to help boost their employability. In addition to showcasing the school\, our friendly team of instructors will be available to answer any questions and showcase examples of what to expect as you learn hands-on at Dixie Tech!\n\nFun hands-ons activities will be provided across campus\, including:\n\n\n	3D printing demonstrations\n	Virtual reality welding competitions\n	Firefighter demonstrations\n	Licorice DNA and Blood Typing\n	Minecraft Mods and VR experiences\n\n\n Free DFA Ice Cream
X-ALT-DESC;FMTTYPE=text/html:<h2 style="box-sizing: border-box\; margin: 0px\; padding: 0px 0px 10px\; border: 0px\; outline: 0px\; font-size: 48px\; text-size-adjust: 100%\; vertical-align: baseline\; background-image: initial\; background-position: initial\; background-size: initial\; background-repeat: initial\; background-attachment: initial\; background-origin: initial\; background-clip: initial\; line-height: 1.1em\; font-weight: 700\; font-family: &quot\;Hind Siliguri&quot\;\, Helvetica\, Arial\, Lucida\, sans-serif\; color: rgb(46\, 63\, 89) !important\;">What To Expect</h2>\n\n<p style="box-sizing: border-box\; margin: 0px\; padding: 0px 0px 1em\; border: 0px\; outline: 0px\; font-size: 18px\; text-size-adjust: 100%\; vertical-align: baseline\; background-image: initial\; background-position: initial\; background-size: initial\; background-repeat: initial\; background-attachment: initial\; background-origin: initial\; background-clip: initial\; color: rgb(68\, 74\, 79)\; font-family: Roboto\, Helvetica\, Arial\, Lucida\, sans-serif\;">We are so excited to show off everything we have to offer not only to prospective students but the community at large including those looking for an education\, a second career\, or new skills to help boost their employability. In addition to showcasing the school\, our friendly team of instructors will be available to answer any questions and showcase examples of what to expect as you learn hands-on at Dixie Tech!</p>\n\n<p style="box-sizing: border-box\; margin: 0px\; padding: 0px\; border: 0px\; outline: 0px\; font-size: 18px\; text-size-adjust: 100%\; vertical-align: baseline\; background-image: initial\; background-position: initial\; background-size: initial\; background-repeat: initial\; background-attachment: initial\; background-origin: initial\; background-clip: initial\; color: rgb(68\, 74\, 79)\; font-family: Roboto\, Helvetica\, Arial\, Lucida\, sans-serif\;"><span style="box-sizing: border-box\; margin: 0px\; padding: 0px\; border: 0px\; outline: 0px\; text-size-adjust: 100%\; vertical-align: baseline\; background: transparent\; font-weight: 700\;">Fun hands-ons activities will be provided across campus\, including:</span></p>\n\n<ul style="box-sizing: border-box\; margin: 0px\; padding-right: 0px\; padding-bottom: 1em\; padding-left: 1em\; border: 0px\; outline: 0px\; font-size: 18px\; text-size-adjust: 100%\; vertical-align: baseline\; background-image: initial\; background-position: initial\; background-size: initial\; background-repeat: initial\; background-attachment: initial\; background-origin: initial\; background-clip: initial\; list-style-position: initial\; list-style-image: initial\; line-height: 26px\; color: rgb(68\, 74\, 79)\; font-family: Roboto\, Helvetica\, Arial\, Lucida\, sans-serif\;">\n	<li aria-level="1" style="box-sizing: border-box\; margin: 0px\; padding: 0px\; border: 0px\; outline: 0px\; text-size-adjust: 100%\; vertical-align: baseline\; background: transparent\;"><span style="box-sizing: border-box\; margin: 0px\; padding: 0px\; border: 0px\; outline: 0px\; text-size-adjust: 100%\; vertical-align: baseline\; background: transparent\;">3D printing demonstrations</span></li>\n	<li aria-level="1" style="box-sizing: border-box\; margin: 0px\; padding: 0px\; border: 0px\; outline: 0px\; text-size-adjust: 100%\; vertical-align: baseline\; background: transparent\;"><span style="box-sizing: border-box\; margin: 0px\; padding: 0px\; border: 0px\; outline: 0px\; text-size-adjust: 100%\; vertical-align: baseline\; background: transparent\;">Virtual reality welding competitions</span></li>\n	<li aria-level="1" style="box-sizing: border-box\; margin: 0px\; padding: 0px\; border: 0px\; outline: 0px\; text-size-adjust: 100%\; vertical-align: baseline\; background: transparent\;"><span style="box-sizing: border-box\; margin: 0px\; padding: 0px\; border: 0px\; outline: 0px\; text-size-adjust: 100%\; vertical-align: baseline\; background: transparent\;">Firefighter demonstrations</span></li>\n	<li aria-level="1" style="box-sizing: border-box\; margin: 0px\; padding: 0px\; border: 0px\; outline: 0px\; text-size-adjust: 100%\; vertical-align: baseline\; background: transparent\;"><span style="box-sizing: border-box\; margin: 0px\; padding: 0px\; border: 0px\; outline: 0px\; text-size-adjust: 100%\; vertical-align: baseline\; background: transparent\;">Licorice DNA and Blood Typing</span></li>\n	<li aria-level="1" style="box-sizing: border-box\; margin: 0px\; padding: 0px\; border: 0px\; outline: 0px\; text-size-adjust: 100%\; vertical-align: baseline\; background: transparent\;"><span style="box-sizing: border-box\; margin: 0px\; padding: 0px\; border: 0px\; outline: 0px\; text-size-adjust: 100%\; vertical-align: baseline\; background: transparent\;">Minecraft Mods and VR experiences</span></li>\n</ul>\n\n<div style="box-sizing: border-box\; margin: 0px\; padding: 0px\; border: 0px\; outline: 0px\; text-size-adjust: 100%\; vertical-align: baseline\; background: transparent\;"><span style="font-size:22px\;"><span style="box-sizing: border-box\; margin: 0px\; padding: 0px\; border: 0px\; outline: 0px\; text-size-adjust: 100%\; vertical-align: baseline\; background: transparent\;">&#8203\;</span>Free DFA Ice Cream</span></div>\n
LOCATION:
UID:e.1117.18641
SEQUENCE:3
DTSTAMP:20260420T194644Z
URL:https://business.stgeorgechamber.com/events/details/dixie-technical-college-open-house-18641
END:VEVENT

END:VCALENDAR
