BEGIN:VCALENDAR
VERSION:2.0
PRODID:-//ChamberMaster//Event Calendar 2.0//EN
METHOD:PUBLISH
X-PUBLISHED-TTL:P3D
REFRESH-INTERVAL:P3D
CALSCALE:GREGORIAN
BEGIN:VEVENT
DTSTART:20150225T170000Z
DTEND:20150225T210000Z
X-MICROSOFT-CDO-ALLDAYEVENT:FALSE
SUMMARY:Dixie State University to Host Annual Employment Fair
DESCRIPTION:Dixie State University will host its annual Employment and Internship Fair on Wednesday\, February 25.  This year's fair is open to all students and community members and will feature nearly 40 registered employers seeking to hire four-year graduates and students with associate degrees and certificates. \n\n\n\nDSU Assistant Director of Career Services Ali Threet noted that this year's fair is full of employers who are looking to hire DSU graduates for full-time career positions\, along with other employers who will offer part-time and seasonal jobs and internships. She noted that students and other attendees looking for career advice and information should come dressed professionally\, prepared to engage potential employers\, ask questions and discover what each company at the fair has to offer.\n\n\n\n"We realize that most students come to the area and never want to leave\, so this year we focused on contacting companies in southern Utah that make a big impact\," Threet said. "This is a great opportunity for them to begin networking and getting their brand out to the business world in southern Utah. Students may not leave with a job\, but our fair opens the door to possibilities in the near future."\n\n\n\nFair attendees can also expect prospective employers handing out various promotional items and materials\, along with a free lunch as participants will receive a coupon for a slice of pizza and a drink from DSU's Red Rock Caf . In addition\, this year's event will feature on-the-spot resume' reviews provided by representatives from LDS Employment Services\, who will provide advice to students on how to better their marketability.\n\n\n\nAmong the many employers that will attend this year's DSU Employment Fair include: Intermountain Healthcare\; State Bank of Southern Utah\, SkyWest\, Northwestern Mutual\, Best Friend Animal Society\, Mountain America Credit Union\, Printer Logic\, Red Cliffs Health & Rehab\, Walgreens\, Wal-Mart\; among many others. In addition\, branches of the United States Military and other government agencies\, including the National Parks Service will be on hand with employment information.
X-ALT-DESC;FMTTYPE=text/html:<span style="font-size:14px\;"><span style="font-family:arial\;">Dixie State University will host its annual Employment and Internship Fair on&nbsp\;<span data-term="goog_645850148" style="border-bottom-width:1px\;border-bottom-style:dashed\;position:relative\;top:-2px\;z-index:0\;" tabindex="0"><span style="position:relative\;top:2px\;z-index:-1\;">Wednesday</span></span><span data-term="goog_645850148" style="border-bottom-width:1px\;border-bottom-style:dashed\;position:relative\;top:-2px\;z-index:0\;" tabindex="0"><span style="position:relative\;top:2px\;z-index:-1\;">\, February 25. &nbsp\;</span></span>This year&rsquo\;s fair is open to all students and community members and will feature nearly 40 registered employers seeking to hire four-year graduates and students with associate degrees and certificates.&nbsp\;<br />\n<br />\nDSU Assistant Director of Career Services Ali Threet noted that this year&rsquo\;s fair is full of employers who are looking to hire DSU graduates for full-time career positions\, along with other employers who will offer part-time and seasonal jobs and internships. She noted that students and other attendees looking for career advice and information should come dressed professionally\, prepared to engage potential employers\, ask questions and discover what each company at the fair has to offer.<br />\n<br />\n&ldquo\;<span style="background-image:initial\;background-attachment:initial\;background-size:initial\;background-origin:initial\;background-clip:initial\;background-position:initial\;background-repeat:initial\;"><span style="color:#333333\;">We realize that most students come to the area and never want to leave\, so this year we focused on contacting companies in southern Utah that make a big impact\,&rdquo\; Threet said. &ldquo\;This is a great opportunity for them to begin networking and getting their brand out to the business world in southern Utah. Students may not leave with a job\, but our fair opens the door to possibilities in the near future.&rdquo\;</span></span><br />\n<br />\nFair attendees can also expect prospective employers handing out various promotional items and materials\, along with a free lunch as participants will receive a coupon for a slice of pizza and a drink from DSU&rsquo\;s Red Rock Caf&eacute\;. In addition\, this year&rsquo\;s event will feature on-the-spot resume&rsquo\; reviews provided by representatives from LDS Employment Services\, who will provide advice to students on how to better their marketability.<br />\n<br />\nAmong the many employers that will attend this year&rsquo\;s DSU Employment Fair include: Intermountain Healthcare\; State Bank of Southern Utah\, SkyWest\, Northwestern Mutual\, Best Friend Animal Society\, Mountain America Credit Union\, Printer Logic\, Red Cliffs Health &amp\; Rehab\, Walgreens\, Wal-Mart\; among many others. In addition\, branches of the United States Military and other government agencies\, including the National Parks Service will be on hand with employment information.</span></span>
LOCATION:Dixie State University Gardner Center Ballroom
UID:e.1117.6300
SEQUENCE:3
DTSTAMP:20260420T205133Z
URL:https://business.stgeorgechamber.com/events/details/dixie-state-university-to-host-annual-employment-fair-02-25-2015-6300
END:VEVENT

END:VCALENDAR
