BEGIN:VCALENDAR
VERSION:2.0
PRODID:-//ChamberMaster//Event Calendar 2.0//EN
METHOD:PUBLISH
X-PUBLISHED-TTL:P3D
REFRESH-INTERVAL:P3D
CALSCALE:GREGORIAN
BEGIN:VEVENT
DTSTART:20140706T013000Z
DTEND:20140706T033000Z
X-MICROSOFT-CDO-ALLDAYEVENT:FALSE
SUMMARY:Dixie State University presents "Spamalot"
DESCRIPTION:A loose stage translation of the Monty Python's Holy Grail\, Spamalot tells the legendary tale of King Arthur's quest to find the Holy Grail. However\, diverting a bit from the true story\, this hilarious musical features such oddities as a line of beautiful dancing girls\, a flatulent Frenchmen and killer rabbits. Outside there is plague with a 50% chance of pestilence and famine. Throughout the show Arthur\, traveling with his servant Patsy\, recruits several knights to accompany him on his quest\, including Sir Bedevere\, Sir Robin\, Sir Lancelot and Sir Galahad. Besides the rabbits they meet such characters as the Lady of the Lake\, Prince Herbert\, Tim the Enchanter\, Not Dead Fred\, the Black Knight and the Knights who say Ni. Blah\, Blah\, Blah
X-ALT-DESC;FMTTYPE=text/html:A loose stage translation of the Monty Python&rsquo\;s Holy Grail\, Spamalot tells the legendary tale of King Arthur&rsquo\;s quest to find the Holy Grail. However\, diverting a bit from the true story\, this hilarious musical features such oddities as a line of beautiful dancing girls\, a flatulent Frenchmen and killer rabbits. Outside there is plague with a 50% chance of pestilence and famine. Throughout the show Arthur\, traveling with his servant Patsy\, recruits several knights to accompany him on his quest\, including Sir Bedevere\, Sir Robin\, Sir Lancelot and Sir Galahad. Besides the rabbits they meet such characters as the Lady of the Lake\, Prince Herbert\, Tim the Enchanter\, Not Dead Fred\, the Black Knight and the Knights who say Ni. Blah\, Blah\, Blah&hellip\;
LOCATION:Dixie State University Eccles Fine Arts Stage
UID:e.1117.5525
SEQUENCE:3
DTSTAMP:20260421T070119Z
URL:https://business.stgeorgechamber.com/events/details/dixie-state-university-presents-spamalot-07-05-2014-5525
END:VEVENT

END:VCALENDAR
