BEGIN:VCALENDAR
VERSION:2.0
PRODID:-//ChamberMaster//Event Calendar 2.0//EN
METHOD:PUBLISH
X-PUBLISHED-TTL:P3D
REFRESH-INTERVAL:P3D
CALSCALE:GREGORIAN
BEGIN:VEVENT
DTSTART:20131023T013000Z
DTEND:20131023T030000Z
X-MICROSOFT-CDO-ALLDAYEVENT:FALSE
SUMMARY:Dixie State University Jazz Fall Concert
DESCRIPTION:The Dixie State University Jazz Ensemble\, under the direction of DSU Music Department Chair Glenn Webb\, will open its 2013-14 concert season with its annual Fall Concert on Tuesday\, October 22.\n\n	\n\n	The Jazz Ensemble will perform a wide array of numbers spanning nearly 85 years (1929-to-present day) of musical history\, including selections from the legendary libraries of Cole Porter\, Quincy Jones and Miles Davis. The program will also feature exciting arrangements of pop and rock music from the 1970s and 1980s\, by artists such as Marvin Gaye\, Queen and The Who.\n\n	 \n\n	For the sixth-straight season\, Dixie State is offering a DSU Performance and Fine Arts Season Pass (excluding dance performances) for just $78 (excluding dance concerts)\, more than a 40% savings over regular single-event ticket prices\, giving patrons access to all DSU theatre productions\, and instrumental and vocal concerts for the 2013-14 season. In addition\, there are several free recitals on this year's schedule to complement an already strong performance season.
X-ALT-DESC;FMTTYPE=text/html:<p>\n	<span style="font-size:14px\;"><span style="font-family:verdana\;">The Dixie State University Jazz Ensemble\, under the direction of DSU Music Department Chair Glenn Webb\, will open its 2013-14 concert season with its annual Fall Concert on Tuesday\, October 22.<br />\n	<br />\n	The Jazz Ensemble will perform a wide array of numbers spanning nearly 85 years (1929-to-present day) of musical history\, including selections from the legendary libraries of Cole Porter\, Quincy Jones and Miles Davis. The program will also feature exciting arrangements of pop and rock music from the 1970s and 1980s\, by artists such as Marvin Gaye\, Queen and The Who.<br />\n	&nbsp\;<br />\n	For the sixth-straight season\, Dixie State is offering a DSU Performance and Fine Arts Season Pass (excluding dance performances) for just $78 (excluding dance concerts)\, more than a 40% savings over regular single-event ticket prices\, giving patrons access to all DSU theatre productions\, and instrumental and vocal concerts for the 2013-14 season. In addition\, there are several free recitals on this year&rsquo\;s schedule to complement an already strong performance season.</span></span></p>\n
LOCATION:Dolores Dore' Eccles Fine Arts Center Mainstage Theater on the DSU campus
UID:e.1117.4324
SEQUENCE:3
DTSTAMP:20260421T195544Z
URL:https://business.stgeorgechamber.com/events/details/dixie-state-university-jazz-fall-concert-10-22-2013-4324
END:VEVENT

END:VCALENDAR
