BEGIN:VCALENDAR
VERSION:2.0
PRODID:-//ChamberMaster//Event Calendar 2.0//EN
METHOD:PUBLISH
X-PUBLISHED-TTL:P3D
REFRESH-INTERVAL:P3D
CALSCALE:GREGORIAN
BEGIN:VEVENT
DTSTART:20140910T150000Z
DTEND:20140910T190000Z
X-MICROSOFT-CDO-ALLDAYEVENT:FALSE
SUMMARY:Dixie State University Health Fair
DESCRIPTION:Dixie State University's Health & Wellness Center will host its annual Health Fair on Wednesday\, September 10\, from 9 a.m.-to-1 p.m.\, along the Diagonal near the Encampment Mall. "Healthy Body\, Healthy Mind\, Healthy You" serves as the theme of this year's fair\, which will feature over 25 health information booths from various campus departments and area businesses\, along with a rock wall for students to climb\, and haircuts provided by students of the Paul Mitchell Cosmetology School. \n\n\n\nIn addition\, Dixie State will welcome a pair of special guests to the fair\, including Tina Hender\, who serves on the board of the American Foundation of Suicide Prevention\, and Jon Stewart\, a Washington City resident who was recently featured as a finalist on the NBC hit reality television show American Ninja Warrior. \n\n\n\nAs part of the fair\, Ms. Hender will present "Hope and Healing\," in conjunction with National Suicide Prevention Week (Sept. 8-12)\, in Conference Room B of the Gardner Center at 12 noon. Attendees will also hear from Eva Beatty from the DSU Health & Wellness Center. The presentation is free to attend and light refreshments will be served.
X-ALT-DESC;FMTTYPE=text/html:<span style="font-size:14px\;"><span style="font-family:arial\;"><span style="color: rgb(0\, 0\, 0)\; line-height: normal\;">Dixie State University&#39\;s Health &amp\; Wellness Center will host its annual Health Fair on Wednesday\, September 10\, from 9 a.m.-to-1 p.m.\, along the Diagonal near the Encampment Mall. &quot\;Healthy Body\, Healthy Mind\, Healthy You&quot\; serves as the theme of this year&#39\;s fair\, which will feature over 25 health information booths from various campus departments and area businesses\, along with a rock wall for students to climb\, and haircuts provided by students of the Paul Mitchell Cosmetology School.&nbsp\;</span><br style="font-family: Tahoma\, Geneva\, sans-serif\; color: rgb(0\, 0\, 0)\; font-size: 12px\; line-height: normal\;" />\n<br style="font-family: Tahoma\, Geneva\, sans-serif\; color: rgb(0\, 0\, 0)\; font-size: 12px\; line-height: normal\;" />\n<span style="color: rgb(0\, 0\, 0)\; line-height: normal\;">In addition\, Dixie State will welcome a pair of special guests to the fair\, including Tina Hender\, who serves on the board of the American Foundation of Suicide Prevention\, and Jon Stewart\, a Washington City resident who was recently featured as a finalist on the NBC hit reality television show American Ninja Warrior.&nbsp\;</span><br style="font-family: Tahoma\, Geneva\, sans-serif\; color: rgb(0\, 0\, 0)\; font-size: 12px\; line-height: normal\;" />\n<br style="font-family: Tahoma\, Geneva\, sans-serif\; color: rgb(0\, 0\, 0)\; font-size: 12px\; line-height: normal\;" />\n<span style="color: rgb(0\, 0\, 0)\; line-height: normal\;">As part of the fair\, Ms. Hender will present &quot\;Hope and Healing\,&quot\; in conjunction with National Suicide Prevention Week (Sept. 8-12)\, in Conference Room B of the Gardner Center at 12 noon. Attendees will also hear from Eva Beatty from the DSU Health &amp\; Wellness Center. The presentation is free to attend and light refreshments will be served.&nbsp\;</span></span></span>
LOCATION:Dixie State University
UID:e.1117.6117
SEQUENCE:3
DTSTAMP:20260421T043217Z
URL:https://business.stgeorgechamber.com/events/details/dixie-state-university-health-fair-09-10-2014-6117
END:VEVENT

END:VCALENDAR
