BEGIN:VCALENDAR
VERSION:2.0
PRODID:-//ChamberMaster//Event Calendar 2.0//EN
METHOD:PUBLISH
X-PUBLISHED-TTL:P3D
REFRESH-INTERVAL:P3D
CALSCALE:GREGORIAN
BEGIN:VEVENT
DTSTART:20150205T190000Z
DTEND:20150205T200000Z
X-MICROSOFT-CDO-ALLDAYEVENT:FALSE
SUMMARY:Dixie State University Business Forum
DESCRIPTION:Dixie State University's Udvar-Hazy School of Business kicks off its bi-monthly noontime Business and Ethics Forum series for the 2015 spring semester on Thursday\, February 5\, featuring a presentation entitled "Fundamentals for Success in the Business World" by H. John Marsh\, CPA and former senior vice president of accounting and financial reporting with Federal Farm Credit Funding Corporation.\n\n\n\nMarsh served as managing director (CFO) at Federal Farm Credit Funding Corporation for 14 years\, and oversaw financial reporting for an additional eight years. He also worked as a senior audit manager at KPMG\, where he specialized in the oil and gas industry\, manufacturing and governmental accounting.  \n\n \n\nThe series will continue Feb. 19\, with a presentation by corporate executive Paul Kline. In addition\, Cache Valley Bank president Scott Colton will address the forum March 5\; Squatty Potty owners Judy and Bill Edwards\, will speak March 19\; Bob Dalley\, vice president and CFO of Deseret Power Electric Cooperative\, will present to the forum April 2\; and DSU business law and economics professor Travis Seegmiller will wrap up the semester schedule with a presentation April 16. \n\n\n\nThe DSU Business and Ethics Forum is held every other Thursday throughout the fall and spring semesters\, with each guest lecturer speaking on business matters in their respective professions and how ethics are introduced into the discussion. \n\n\n\nThe bi-monthly forum\, along with campus' Institute for Business Integrity\, was created by former DSU president Dr. Robert Huddleston in 2006\, as a way to integrate ethics into the curriculum\, and have it serve as a blueprint to ensure that students graduate with a set of ethical tools to help them get along in the professional world.\n\n\n\nIn 2006-07\, Dixie State's business program sought initial accreditation with the high profile Association to Advance Collegiate Schools of Business (AACSB). In order to become accredited with the AACSB\, ethics were required to be integrated into the college's business curriculum. As a result\, each business class on the DSU campus now includes an ethical component. \n\n\n\nDr. Huddleston noted that the business forums will give students   and current and prospective local business owners   an added dose of ethics training that is so sorely needed into today's business world. His hope is that by the time students leave Dixie State\, they have been exposed to enough ethical cases that\, when they get out in the workforce\, they will have the wherewithal and the intestinal fortitude to do the right thing\, even when their job might be on the line.  \n\n\n\nThe Dixie State University Institute for Business Integrity is a partnership between the DSU Udvar-Hazy School of Business\, the Small Business Development Center\, the Washington County Economic Development Council\, and the St. George Area Chamber of Commerce.
X-ALT-DESC;FMTTYPE=text/html:<p><span style="font-size:14px\;"><span style="font-family:arial\;">Dixie State University&rsquo\;s Udvar-Hazy School of Business kicks off its bi-monthly noontime Business and Ethics Forum series for the 2015 spring semester on&nbsp\;<span data-term="goog_1849978566" style="border-bottom-width:1px\;border-bottom-style:dashed\;position:relative\;top:-2px\;z-index:0\;" tabindex="0"><span style="position:relative\;top:2px\;z-index:-1\;">Thursday\, February 5</span></span>\, featuring a presentation entitled &ldquo\;Fundamentals for Success in the Business World&rdquo\; by H. John Marsh\, CPA and former senior vice president of accounting and financial reporting with Federal Farm Credit Funding Corporation.<br />\n<br />\nMarsh served as managing director (CFO) at Federal Farm Credit Funding Corporation for 14 years\, and oversaw financial reporting for an additional eight years. He also worked as a senior audit manager at KPMG\, where he specialized in the oil and gas industry\, manufacturing and governmental accounting. &nbsp\;<br />\n&nbsp\;<br />\nThe series will continue&nbsp\;<span data-term="goog_1849978568" style="border-bottom-width:1px\;border-bottom-style:dashed\;position:relative\;top:-2px\;z-index:0\;" tabindex="0"><span style="position:relative\;top:2px\;z-index:-1\;">Feb. 19</span></span>\, with a presentation by corporate executive Paul Kline. In addition\, Cache Valley Bank president Scott Colton will address the forum&nbsp\;<span data-term="goog_1849978569" style="border-bottom-width:1px\;border-bottom-style:dashed\;position:relative\;top:-2px\;z-index:0\;" tabindex="0"><span style="position:relative\;top:2px\;z-index:-1\;">March 5</span></span>\; Squatty Potty owners Judy and Bill Edwards\, will speak&nbsp\;<span data-term="goog_1849978570" style="border-bottom-width:1px\;border-bottom-style:dashed\;position:relative\;top:-2px\;z-index:0\;" tabindex="0"><span style="position:relative\;top:2px\;z-index:-1\;">March 19</span></span>\; Bob Dalley\, vice president and CFO of Deseret Power Electric Cooperative\, will present to the forum&nbsp\;<span data-term="goog_1849978571" style="border-bottom-width:1px\;border-bottom-style:dashed\;position:relative\;top:-2px\;z-index:0\;" tabindex="0"><span style="position:relative\;top:2px\;z-index:-1\;">April 2</span></span>\; and DSU business law and economics professor Travis Seegmiller will wrap up the semester schedule with a presentation&nbsp\;<span data-term="goog_1849978572" style="border-bottom-width:1px\;border-bottom-style:dashed\;position:relative\;top:-2px\;z-index:0\;" tabindex="0"><span style="position:relative\;top:2px\;z-index:-1\;">April 16</span></span>.&nbsp\;<br />\n<br />\nThe DSU Business and Ethics Forum is held every other&nbsp\;<span data-term="goog_1849978573" style="border-bottom-width:1px\;border-bottom-style:dashed\;position:relative\;top:-2px\;z-index:0\;" tabindex="0"><span style="position:relative\;top:2px\;z-index:-1\;">Thursday</span></span>&nbsp\;throughout the fall and spring semesters\, with each guest lecturer speaking on business matters in their respective professions and how ethics are introduced into the discussion.&nbsp\;<br />\n<br />\nThe bi-monthly forum\, along with campus&rsquo\; Institute for Business Integrity\, was created by former DSU president Dr. Robert Huddleston in 2006\, as a way to integrate ethics into the curriculum\, and have it serve as a blueprint to ensure that students graduate with a set of ethical tools to help them get along in the professional world.<br />\n<br />\nIn 2006-07\, Dixie State&rsquo\;s business program sought initial accreditation with the high profile Association to Advance Collegiate Schools of Business (AACSB). In order to become accredited with the AACSB\, ethics were required to be integrated into the college&rsquo\;s business curriculum. As a result\, each business class on the DSU campus now includes an ethical component.&nbsp\;<br />\n<br />\nDr. Huddleston noted that the business forums will give students &ndash\; and current and prospective local business owners &ndash\; an added dose of ethics training that is so sorely needed into today&rsquo\;s business world. His hope is that by the time students leave Dixie State\, they have been exposed to enough ethical cases that\, when they get out in the workforce\, they will have the wherewithal and the intestinal fortitude to do the right thing\, even when their job might be on the line.&nbsp\;&nbsp\;<br />\n<br />\nThe Dixie State University Institute for Business Integrity is a partnership between the DSU Udvar-Hazy School of Business\, the Small Business Development Center\, the Washington County Economic Development Council\, and the St. George Area Chamber of Commerce.</span></span></p>\n
LOCATION:Boeing Auditorium (Room 121) of the DSC Udvar-Hazy Business Building
UID:e.1117.6243
SEQUENCE:3
DTSTAMP:20260420T204200Z
URL:https://business.stgeorgechamber.com/events/details/dixie-state-university-business-forum-02-05-2015-6243
END:VEVENT

END:VCALENDAR
