BEGIN:VCALENDAR
VERSION:2.0
PRODID:-//ChamberMaster//Event Calendar 2.0//EN
METHOD:PUBLISH
X-PUBLISHED-TTL:P3D
REFRESH-INTERVAL:P3D
CALSCALE:GREGORIAN
BEGIN:VEVENT
DTSTART:20141204T190000Z
DTEND:20141204T200000Z
X-MICROSOFT-CDO-ALLDAYEVENT:FALSE
SUMMARY:Dixie State University Business and Ethics Forum
DESCRIPTION:Dixie State University's Udvar-Hazy School of Business will host the final Business and Ethics Forum series of the 2014 fall semester this Thursday\, December 4\, at 12 noon\, featuring a presentation on integrity in business by DSU Associate Professor of Accounting Dr. Nate Staheli.\n\n \n\nStaheli's presentation\, entitled "I'm not Raising Cattle\, I am Raising Young Men\," will draw from how his life's experiences strengthened his integrity\, both personally and professionally. Staheli will share some early childhood memories on the family farm and how those experiences continue to govern his thoughts and actions in the business and academic world. Staheli\, who is also a senior partner at Staheli & Jacobsen CPA\, will also discuss the importance of having ethical behavior in academics\, and how that ethical behavior played a role in his Doctoral work.\n\n\n\nThe DSU Business and Ethics Forum is held every other Thursday throughout the fall and spring semesters\, with each guest lecturer speaking on business matters in their respective professions and how ethics are introduced into the discussion. The Forums will return to its regular bi-monthly schedule for the 2015 spring semester beginning in January.\n\n \n\nThe bi-monthly forum\, along with campus' Institute for Business Integrity\, was created by former DSU president Dr. Robert Huddleston in 2006\, as a way to integrate ethics into the curriculum\, and have it serve as a blueprint to ensure that students graduate with a set of ethical tools to help them get along in the professional world.\n\n \n\nIn 2006-07\, Dixie State's business program sought initial accreditation with the high profile Association to Advance Collegiate Schools of Business (AACSB). In order to become accredited with the AACSB\, ethics were required to be integrated into the college's business curriculum. As a result\, each business class on the DSU campus now includes an ethical component. \n\n \n\nDr. Huddleston noted that the business forums will give students   and current and prospective local business owners   an added dose of ethics training that is so sorely needed into today's business world. His hope is that by the time students leave Dixie State\, they have been exposed to enough ethical cases that\, when they get out in the workforce\, they will have the wherewithal and the intestinal fortitude to do the right thing\, even when their job might be on the line.  \n\n \n\nThe Dixie State University Institute for Business Integrity is a partnership between the DSU Udvar-Hazy School of Business\, the Small Business Development Center\, the Washington County Economic Development Council\, and the St. George Area Chamber of Commerce.
X-ALT-DESC;FMTTYPE=text/html:<p><span style="font-size:14px\;"><span style="font-family:arial\;"><span style="color:black\;">Dixie State University&rsquo\;s Udvar-Hazy School of Business will host the final Business and Ethics Forum series of the 2014 fall semester this Thursday\, December 4\, at 12 noon\, featuring a presentation on integrity in business by DSU Associate Professor of Accounting Dr. Nate Staheli.</span><br />\n&nbsp\;<br />\n<span style="color:black\;">Staheli&rsquo\;s presentation\, entitled &quot\;I&#39\;m not Raising Cattle\, I am Raising&nbsp\;Young Men\,&rdquo\; will draw from how his life&#39\;s experiences strengthened his integrity\, both personally and professionally.&nbsp\;Staheli will share some early childhood memories on the family farm&nbsp\;and how those experiences continue to govern his thoughts and actions in the business and academic world. Staheli\, who is also a senior partner at Staheli &amp\; Jacobsen CPA\, will also discuss the importance of having ethical behavior in academics\, and how that ethical behavior played a role in his Doctoral work.</span><br />\n<br />\n<span style="color:black\;">The DSU Business and Ethics Forum is held every other Thursday throughout the fall and spring semesters\, with each guest lecturer speaking on business matters in their respective professions and how ethics are introduced into the discussion. The Forums will return to its regular bi-monthly schedule for the 2015 spring semester beginning in January.</span><br />\n&nbsp\;<br />\n<span style="color:black\;">The bi-monthly forum\, along with campus&rsquo\; Institute for Business Integrity\, was created by former DSU president Dr. Robert Huddleston in 2006\, as a way to integrate ethics into the curriculum\, and have it serve as a blueprint to ensure that students graduate with a set of ethical tools to help them get along in the professional world.</span><br />\n&nbsp\;<br />\n<span style="color:black\;">In 2006-07\, Dixie State&rsquo\;s business program sought initial accreditation with the high profile Association to Advance Collegiate Schools of Business (AACSB). In order to become accredited with the AACSB\, ethics were required to be integrated into the college&rsquo\;s business curriculum. As a result\, each business class on the DSU campus now includes an ethical component.&nbsp\;</span><br />\n&nbsp\;<br />\n<span style="color:black\;">Dr. Huddleston noted that the business forums will give students &ndash\; and current and prospective local business owners &ndash\; an added dose of ethics training that is so sorely needed into today&rsquo\;s business world. His hope is that by the time students leave Dixie State\, they have been exposed to enough ethical cases that\, when they get out in the workforce\, they will have the wherewithal and the intestinal fortitude to do the right thing\, even when their job might be on the line.&nbsp\;&nbsp\;</span><br />\n&nbsp\;<br />\n<span style="color:black\;">The Dixie State University Institute for Business Integrity is a partnership between the DSU Udvar-Hazy School of Business\, the Small Business Development Center\, the Washington County Economic Development Council\, and the St. George Area Chamber of Commerce.</span></span></span></p>\n
LOCATION:Boeing Auditorium (Room 121) of the DSC Udvar-Hazy Business Building
UID:e.1117.6231
SEQUENCE:3
DTSTAMP:20260421T010622Z
URL:https://business.stgeorgechamber.com/events/details/dixie-state-university-business-and-ethics-forum-12-04-2014-6231
END:VEVENT

END:VCALENDAR
