BEGIN:VCALENDAR
VERSION:2.0
PRODID:-//ChamberMaster//Event Calendar 2.0//EN
METHOD:PUBLISH
X-PUBLISHED-TTL:P3D
REFRESH-INTERVAL:P3D
CALSCALE:GREGORIAN
BEGIN:VEVENT
DTSTART:20130411T180000Z
DTEND:20130411T190000Z
X-MICROSOFT-CDO-ALLDAYEVENT:FALSE
SUMMARY:Dixie State University Business and Ethics Forum
DESCRIPTION:Dixie State University's Udvar-Hazy School of Business will host its final bi-monthly noontime Business and Ethics Forum of the 2012-13 academic year on Thursday\, April 11\, featuring a presentation by longtime Utah businessman and CEO Byron Lee "Bud" Bracken.\n\n	\n\n	Bracken earned degrees in Business and Communication at Brigham Young University\, and competed graduate studies at UCLA. He began his professional career as the Director of Public Relations for Sunkist Growers\, followed by a stint as a vice president and corporate marketing council for Transamerica Corp. Bracken then became the founder and president of three companies\, including B.L. Bracken and Associates\, Inc.\, Management Exchange Corporation\; and Bracken Custom Homes\, Inc.\n\n	\n\n	In addition\, Bracken served as president of the Southern Utah Home Builders Association and the chairman of the Southern Utah Parade of Homes\, and was a director in the missionary department for The Church of Jesus Christ of Latter-day Saints.\n\n	\n\n	The Business and Ethics Forum is every other Thursday throughout the fall and spring semesters\, with each guest lecturer speaking on business matters in their respective professions and how to introduce ethics into the discussion. The Forum will resume its regular bi-monthly schedule for the 2013 fall semester beginning this September.\n\n	\n\n	The bi-monthly forum\, along with campus' Institute for Business Integrity\, was created by former DSU president Dr. Robert Huddleston in 2006\, as a way to integrate ethics into the curriculum\, and have it serve as a blueprint to ensure that students graduate with a set of ethical tools to help them get along in the professional world.\n\n	\n\n	In 2006-07\, Dixie State's business program sought initial accreditation with the high profile Association to Advance Collegiate Schools of Business (AACSB). In order to become accredited with the AACSB\, ethics were required to be integrated into the college's business curriculum. As a result\, each business class on the DSU campus now includes an ethical component.\n\n	\n\n	Dr. Huddleston noted that the business forums will give students   and current and prospective local business owners   an added dose of ethics training that is so sorely needed into today's business world. His hope is that by the time students leave Dixie State\, they have been exposed to enough ethical cases that\, when they get out in the workforce\, they will have the wherewithal and the intestinal fortitude to do the right thing\, even when their job might be on the line.  \n\n	\n\n	"The Institute for Business Integrity has brought an important opportunity for the business community\, as well as DSU faculty and students\, to emphasize the significance of social responsibility for business and industry in Washington County\," said Huddleston. "As research indicates\, ethics contribute to employee commitment\, investor loyalty\, customer satisfaction and to profits."\n\n	\n\n	The DSU Institute for Business Integrity is a partnership between the Udvar-Hazy School of Business at Dixie State University\, the Small Business Development Center\, the Washington County Economic Development Council\, and the St. George Area Chamber of Commerce.
X-ALT-DESC;FMTTYPE=text/html:<p>\n	<span style="font-size:14px\;"><span style="font-family: arial\;">Dixie State University&rsquo\;s Udvar-Hazy School of Business will host its final bi-monthly noontime Business and Ethics Forum of the 2012-13 academic year on Thursday\, April 11\, featuring a presentation by longtime Utah businessman and CEO Byron Lee &ldquo\;Bud&rdquo\; Bracken.</span></span><br />\n	<br />\n	<span style="font-family:times new roman\,serif\;"><span style="font-size:14px\;"><span style="font-family: arial\;">Bracken earned degrees in Business and Communication at Brigham Young University\, and competed graduate studies at UCLA. He began his professional career as the Director of Public Relations for Sunkist Growers\, followed by a stint as a vice president and corporate marketing council for Transamerica Corp. Bracken then became the founder and president of three companies\, including B.L. Bracken and Associates\, Inc.\, Management Exchange Corporation\; and Bracken Custom Homes\, Inc.<br />\n	<br />\n	In addition\, Bracken served as president of the Southern Utah Home Builders Association and the chairman of the Southern Utah Parade of Homes\, and was a director in the missionary department for The Church of Jesus Christ of Latter-day Saints.<br />\n	<br />\n	The Business and Ethics Forum is every other Thursday throughout the fall and spring semesters\, with each guest lecturer speaking on business matters in their respective professions and how to introduce ethics into the discussion. The Forum will resume its regular bi-monthly schedule for the 2013 fall semester beginning this September.<br />\n	<br />\n	The bi-monthly forum\, along with campus&rsquo\; Institute for Business Integrity\, was created by former DSU president Dr. Robert Huddleston in 2006\, as a way to integrate ethics into the curriculum\, and have it serve as a blueprint to ensure that students graduate with a set of ethical tools to help them get along in the professional world.<br />\n	<br />\n	In 2006-07\, Dixie State&rsquo\;s business program sought initial accreditation with the high profile Association to Advance Collegiate Schools of Business (AACSB). In order to become accredited with the AACSB\, ethics were required to be integrated into the college&rsquo\;s business curriculum. As a result\, each business class on the DSU campus now includes an ethical component.<br />\n	<br />\n	Dr. Huddleston noted that the business forums will give students &ndash\; and current and prospective local business owners &ndash\; an added dose of ethics training that is so sorely needed into today&rsquo\;s business world. His hope is that by the time students leave Dixie State\, they have been exposed to enough ethical cases that\, when they get out in the workforce\, they will have the wherewithal and the intestinal fortitude to do the right thing\, even when their job might be on the line. &nbsp\;<br />\n	<br />\n	&ldquo\;The Institute for Business Integrity has brought an important opportunity for the business community\, as well as DSU faculty and students\, to emphasize the significance of social responsibility for business and industry in Washington County\,&rdquo\; said Huddleston. &ldquo\;As research indicates\, ethics contribute to employee commitment\, investor loyalty\, customer satisfaction and to profits.&rdquo\;<br />\n	<br />\n	The DSU Institute for Business Integrity is a partnership between the Udvar-Hazy School of Business at Dixie State University\, the Small Business Development Center\, the Washington County Economic Development Council\, and the St. George Area Chamber of Commerce.</span></span></span></p>\n
LOCATION:Boeing Auditorium (Room 121) of the DSC Udvar-Hazy Business Building
UID:e.1117.2927
SEQUENCE:3
DTSTAMP:20260422T055731Z
URL:https://business.stgeorgechamber.com/events/details/dixie-state-university-business-and-ethics-forum-04-11-2013-2927
END:VEVENT

END:VCALENDAR
