BEGIN:VCALENDAR
VERSION:2.0
PRODID:-//ChamberMaster//Event Calendar 2.0//EN
METHOD:PUBLISH
X-PUBLISHED-TTL:P3D
REFRESH-INTERVAL:P3D
CALSCALE:GREGORIAN
BEGIN:VEVENT
DTSTART:20131017T013000Z
DTEND:20131017T033000Z
X-MICROSOFT-CDO-ALLDAYEVENT:FALSE
SUMMARY:Dixie State University Annual Homecoming Queen Pageant
DESCRIPTION:Dixie State University will host its annual Homecoming Queen Pageant on Wednesday\, October 16\, at 7:30 p.m.\n\n\n\nFor the first time in the institution's 100-plus history\, the annual Pageant will be held the week prior to DSU's Homecoming Week\, which will take place Oct. 21-26. In all\, 14 contestants will vie for the title of Ms. Dixie State University 2013-14\, as well as a full tuition scholarship and an opportunity to compete at Miss Utah Pageant next June for a chance to advance to the Miss America Pageant in 2014.\n\n\n\nThe pageant hopefuls will be judged in physical fitness/swimwear\, evening wear and talent areas of the competition\, along with the customary onstage question and personal interview portions of the event. Outgoing Miss Dixie 2013 Krissia Beatty\, who finished as fourth runner-up at the 2013 Miss Utah Pageant\, and DSU Director of Student Involvement and Leadership Jordon Sharp will serve as pageant emcees. This year's pageant theme is "On Broadway\," which will feature the contestants performing a number of Broadway show tunes.
X-ALT-DESC;FMTTYPE=text/html:Dixie State University will host its annual Homecoming Queen Pageant on Wednesday\, October 16\, at 7:30 p.m.<br />\n<br />\nFor the first time in the institution&rsquo\;s 100-plus history\, the annual Pageant will be held the week prior to DSU&rsquo\;s Homecoming Week\, which will take place Oct. 21-26. In all\, 14 contestants will vie for the title of Ms. Dixie State University 2013-14\, as well as a full tuition scholarship and an opportunity to compete at Miss Utah Pageant next June for a chance to advance to the Miss America Pageant in 2014.<br />\n<br />\nThe pageant hopefuls will be judged in physical fitness/swimwear\, evening wear and talent areas of the competition\, along with the customary onstage question and personal interview portions of the event. Outgoing Miss Dixie 2013 Krissia Beatty\, who finished as fourth runner-up at the 2013 Miss Utah Pageant\, and DSU Director of Student Involvement and Leadership Jordon Sharp will serve as pageant emcees. This year&rsquo\;s pageant theme is &ldquo\;On Broadway\,&rdquo\; which will feature the contestants performing a number of Broadway show tunes.<br />\n
LOCATION:Avenna Center Cox Auditorium on the DSU campus
UID:e.1117.4314
SEQUENCE:3
DTSTAMP:20260421T213617Z
URL:https://business.stgeorgechamber.com/events/details/dixie-state-university-annual-homecoming-queen-pageant-10-16-2013-4314
END:VEVENT

END:VCALENDAR
