BEGIN:VCALENDAR
VERSION:2.0
PRODID:-//ChamberMaster//Event Calendar 2.0//EN
METHOD:PUBLISH
X-PUBLISHED-TTL:P3D
REFRESH-INTERVAL:P3D
CALSCALE:GREGORIAN
BEGIN:VEVENT
DTSTART:20130914T140000Z
DTEND:20130914T180000Z
X-MICROSOFT-CDO-ALLDAYEVENT:FALSE
SUMMARY:Dixie State University 6th Annual President's 5k Fun Run/Walk
DESCRIPTION:Dixie State President Dr. Stephen D. Nadauld has once again issued his challenge to the University and St. George-area community to try and beat him to the finish line as DSU hosts its Sixth-Annual President's 5K Fun Run/Walk.\n\n\n\nAs an added incentive\, all participants who beat President Nadauld to the finish line will receive a voucher good for 25% off any apparel or novelty purchase at the DSU Campus Store.\n\n\n\nRegistration forms for the President's Fun Run/Walk are available at the DSU campus and online at www.dixie.edu. Early registration is encouraged\, as the first 250 entrants will receive a free race t-shirt\, though entries will be accepted on race day. Check-in and late registration will begin at 7 a.m. For more information on the 5K run\, please contact the DSU Campus Recreation Office at 435-652-7988.\n\n\n\nThe 5K run will also serve as the kick-off for Dixie State's Hall of Fame Weekend. Following the run at 12 noon\, DSU Athletics will induct five new members into its Hall of Fame in a ceremony held at the Gardner Center Ballroom. The 2013 class includes former Dixie two-sport star and head men's basketball coach Dave Rose\; former Dixie State women's soccer coach Linda Huddleston\; longtime DSU official scorer and timekeeper Ken Jolley\, and the 1963 Dixie College Football Team   the only team in school history to record a perfect undefeated season. For tickets and more information on the DSU Athletic Hall of Fame induction ceremony\, please contact Derek Dawes at 435-879-4295.\n\n\n\nOther Hall of Fame weekend activities include the 2013 DSU Football home opener vs. Azusa Pacific Saturday night at 6 p.m.\, at Hansen Stadium. For ticket and game information\, please visit www.dixieathletics.com.\n\n\n\nThen on Sunday\, Sept. 15\, DSU will host its Sixth-Annual University Convocation\, featuring inspirational addresses by newly inducted DSU Athletic Hall of Famer Dave Rose and his wife\, Cheryl\, who is also a DSU alumna. The convocation will begin at 7 p.m.\, in the Avenna Center Cox Auditorium. Admission is free and open to the all DSU students\, faculty and staff\, and the community\, and light refreshments will be served following the event.\n\n\n\nFor additional information on the convocation\, please contact Steve Johnson in the DSU Public Relations Office at 435-652-7544\,
X-ALT-DESC;FMTTYPE=text/html:Dixie State President Dr. Stephen D. Nadauld has once again issued his challenge to the University and St. George-area community to try and beat him to the finish line as DSU hosts its Sixth-Annual President&rsquo\;s 5K Fun Run/Walk.<br />\n<br />\nAs an added incentive\, all participants who beat President Nadauld to the finish line will receive a voucher good for 25% off any apparel or novelty purchase at the DSU Campus Store.<br />\n<br />\nRegistration forms for the President&rsquo\;s Fun Run/Walk are available at the DSU campus and online at <a href="http://www.dixie.edu" target="_blank">www.dixie.edu</a>. Early registration is encouraged\, as the first 250 entrants will receive a free race t-shirt\, though entries will be accepted on race day. Check-in and late registration will begin at 7 a.m. For more information on the 5K run\, please contact the DSU Campus Recreation Office at <a href="tel:435-652-7988" target="_blank" value="+14356527988">435-652-7988</a>.<br />\n<br />\nThe 5K run will also serve as the kick-off for Dixie State&rsquo\;s Hall of Fame Weekend. Following the run at 12 noon\, DSU Athletics will induct five new members into its Hall of Fame in a ceremony held at the Gardner Center Ballroom. The 2013 class includes former Dixie two-sport star and head men&rsquo\;s basketball coach Dave Rose\; former Dixie State women&rsquo\;s soccer coach Linda Huddleston\; longtime DSU official scorer and timekeeper Ken Jolley\, and the 1963 Dixie College Football Team &ndash\; the only team in school history to record a perfect undefeated season.&nbsp\;For tickets and more information on the DSU Athletic Hall of Fame induction ceremony\, please contact Derek Dawes at <a href="tel:435-879-4295" target="_blank" value="+14358794295">435-879-4295</a>.<br />\n<br />\nOther Hall of Fame weekend activities include the 2013 DSU Football home opener vs. Azusa Pacific Saturday night at 6 p.m.\, at Hansen Stadium. For ticket and game information\, please visit <a href="http://www.dixieathletics.com" target="_blank">www.dixieathletics.com</a>.<br />\n<br />\nThen on Sunday\, Sept. 15\, DSU will host its Sixth-Annual University Convocation\, featuring inspirational addresses by newly inducted DSU Athletic Hall of Famer Dave Rose and his wife\, Cheryl\, who is also a DSU alumna. The convocation will begin at 7 p.m.\, in the Avenna Center Cox Auditorium. Admission is free and open to the all DSU students\, faculty and staff\, and the community\, and light refreshments will be served following the event.<br />\n<br />\nFor additional information on the convocation\, please contact Steve Johnson in the DSU Public Relations Office at <a href="tel:435-652-7544" target="_blank" value="+14356527544">435-652-7544</a>\,<br />\n
LOCATION:The 5-kilometer course will start and finish at Hansen Stadium\, and will weave around and through the DSU campus.
UID:e.1117.4273
SEQUENCE:3
DTSTAMP:20260421T213605Z
URL:https://business.stgeorgechamber.com/events/details/dixie-state-university-6th-annual-president-s-5k-fun-run-walk-09-14-2013-4273
END:VEVENT

END:VCALENDAR
