BEGIN:VCALENDAR
VERSION:2.0
PRODID:-//ChamberMaster//Event Calendar 2.0//EN
METHOD:PUBLISH
X-PUBLISHED-TTL:P3D
REFRESH-INTERVAL:P3D
CALSCALE:GREGORIAN
BEGIN:VEVENT
DTSTART:20141012T013000Z
DTEND:20141012T033000Z
X-MICROSOFT-CDO-ALLDAYEVENT:FALSE
SUMMARY:Dixie State Symphony Fall Concert
DESCRIPTION:The Dixie State Symphony Orchestra (DSSO) will perform their Fall Concert Saturday October 11th\, at 7:30 p.m.  The program will include Grieg's Peer Gynt Suite No. 1\, Borodin's Polovetsian Dances\, and Tchaikovsky's Symphony No. 2.  The Dixie State Symphony Orchestra is under the direction of Dr. Paul Abegg.
X-ALT-DESC;FMTTYPE=text/html:The Dixie State Symphony Orchestra (DSSO) will perform their Fall Concert Saturday October 11th\, at 7:30 p.m. &nbsp\;The program will include Grieg&rsquo\;s Peer Gynt Suite No. 1\, Borodin&rsquo\;s Polovetsian Dances\, and Tchaikovsky&rsquo\;s Symphony No. 2.&nbsp\; The Dixie State Symphony Orchestra is under the direction of Dr. Paul Abegg.
LOCATION:Cox Performing Arts Center Dixie State University
UID:e.1117.6157
SEQUENCE:3
DTSTAMP:20260421T025548Z
URL:https://business.stgeorgechamber.com/events/details/dixie-state-symphony-fall-concert-10-11-2014-6157
END:VEVENT

END:VCALENDAR
