BEGIN:VCALENDAR
VERSION:2.0
PRODID:-//ChamberMaster//Event Calendar 2.0//EN
METHOD:PUBLISH
X-PUBLISHED-TTL:P3D
REFRESH-INTERVAL:P3D
CALSCALE:GREGORIAN
BEGIN:VEVENT
DTSTART:20160902T000000Z
DTEND:20160902T050000Z
X-MICROSOFT-CDO-ALLDAYEVENT:FALSE
SUMMARY:Dixie State Football vs. New Mexico Highlands
DESCRIPTION:The first home football game of the year for new Head Coach Shay McClure and the Trailblazers in Legend Solar Stadium.
X-ALT-DESC;FMTTYPE=text/html:The first home football game of the year for new Head Coach Shay McClure and the Trailblazers in Legend Solar Stadium.
LOCATION:Legend Solar Stadium
UID:e.1117.8673
SEQUENCE:3
DTSTAMP:20260419T135757Z
URL:https://business.stgeorgechamber.com/events/details/dixie-state-football-vs-new-mexico-highlands-09-01-2016-8673
END:VEVENT

END:VCALENDAR
