BEGIN:VCALENDAR
VERSION:2.0
PRODID:-//ChamberMaster//Event Calendar 2.0//EN
METHOD:PUBLISH
X-PUBLISHED-TTL:P3D
REFRESH-INTERVAL:P3D
CALSCALE:GREGORIAN
BEGIN:VEVENT
DTSTART:20140927T003000Z
DTEND:20140927T030000Z
X-MICROSOFT-CDO-ALLDAYEVENT:FALSE
SUMMARY:Dixie Social Club Presents: Oktoberfest
DESCRIPTION:Oktoberfest includes:\n\n24-hour club membership\n\nGerman brats\n\nsauerkrat\n\n German potato salad\n\nTastings from :  Devon Chocolatier\, Redstone Olive Oil\, Harmon's Cheese monger\n\n\n\n**21 and older only (ID required)\n\nBYOB
X-ALT-DESC;FMTTYPE=text/html:Oktoberfest includes:<br />\n24-hour club membership<br />\nGerman brats<br />\nsauerkrat<br />\n&#8203\;German potato salad<br />\nTastings from : &nbsp\;Devon Chocolatier\, Redstone Olive Oil\, Harmon&#39\;s Cheese monger<br />\n<br />\n**21 and older only (ID required)<br />\nBYOB<br />\n<br />\n&nbsp\;
LOCATION:Arte' Gallery 415 S. Dixie Drive St. George
UID:e.1117.6131
SEQUENCE:3
DTSTAMP:20260421T043545Z
URL:https://business.stgeorgechamber.com/events/details/dixie-social-club-presents-oktoberfest-09-26-2014-6131
END:VEVENT

END:VCALENDAR
