BEGIN:VCALENDAR
VERSION:2.0
PRODID:-//ChamberMaster//Event Calendar 2.0//EN
METHOD:PUBLISH
X-PUBLISHED-TTL:P3D
REFRESH-INTERVAL:P3D
CALSCALE:GREGORIAN
BEGIN:VEVENT
DTSTART:20140124T020000Z
DTEND:20140124T040000Z
X-MICROSOFT-CDO-ALLDAYEVENT:FALSE
SUMMARY:Dixie's Got Talent
DESCRIPTION:Come see these contestants perform at the Dixie's Got Talent Finals on January 23rd at the Cox Auditorium at 7:00 p.m. each night!  Remember that the audience's vote accounts for 50% of the contestants' scores\, so come and vote for your favorites! All finalists will perform the first night and through a panel of judges and the audience vote those moving to the final round will be selected. The second night the top finalists will perform and a winner will be selected!  Come cast your vote!
X-ALT-DESC;FMTTYPE=text/html:<p>\n	<span style="font-family:arial\;"><span style="font-size: 14px\;">Come see&nbsp\;these&nbsp\;contestants perform at the Dixie&#39\;s Got Talent Finals on January 23rd at the Cox Auditorium at 7:00 p.m. each night!&nbsp\; Remember that the audience&#39\;s vote accounts for 50% of the contestants&#39\; scores\, so come and vote for your favorites! </span><span style="color: rgb(83\, 83\, 83)\; font-size: 15px\; line-height: 21px\; text-align: center\;">All finalists will perform the first night and through a panel of judges and the audience vote those moving to the final round will be selected. The second night the top finalists will perform and a winner will be selected!&nbsp\; Come cast your vote!</span></span></p>\n
LOCATION:Dixie State College Cox Auditorium
UID:e.1117.5014
SEQUENCE:3
DTSTAMP:20260421T153943Z
URL:https://business.stgeorgechamber.com/events/details/dixie-s-got-talent-01-23-2014-5014
END:VEVENT

END:VCALENDAR
