BEGIN:VCALENDAR
VERSION:2.0
PRODID:-//ChamberMaster//Event Calendar 2.0//EN
METHOD:PUBLISH
X-PUBLISHED-TTL:P3D
REFRESH-INTERVAL:P3D
CALSCALE:GREGORIAN
BEGIN:VEVENT
DTSTART:20131113T011500Z
DTEND:20131113T030000Z
X-MICROSOFT-CDO-ALLDAYEVENT:FALSE
SUMMARY:Dixie Regional Offers Free Lecture on Athlete Nutrition
DESCRIPTION:Dixie Regional Medical Center's Sports Performance Training program is offering a free lecture designed to teach athletes how to combine smart eating with smart training for a winning edge. \n\n\n\nThe lecture will be led by Steph Christensen\, a certified sports nutrition advisor. She will explain how a foundation of knowledge in sports nutrition is essential for an athlete wanting to train\, recover\, and compete at a higher level. Participants will learn the right way to eat to prevent injury and inflammation\, and to improve sports performance. Door prizes will be provided.
X-ALT-DESC;FMTTYPE=text/html:Dixie Regional Medical Center&rsquo\;s Sports Performance Training program is offering a free lecture designed to teach athletes how to combine smart eating with smart training for a winning edge.&nbsp\;<br />\n<br />\nThe lecture will be led by Steph Christensen\, a certified sports nutrition advisor. She will explain how a foundation of knowledge in sports nutrition is essential for an athlete wanting to train\, recover\, and compete at a higher level. Participants will learn the right way to eat to prevent injury and inflammation\, and to improve sports performance.<span style="color:black\;"> Door prizes will be provided.</span><br />\n
LOCATION:Sports Performance Training gym on the lower level of the Dixie Regional Health & Performance Center at 652 S. Medical Center Drive in St. George.
UID:e.1117.4944
SEQUENCE:3
DTSTAMP:20260421T200643Z
URL:https://business.stgeorgechamber.com/events/details/dixie-regional-offers-free-lecture-on-athlete-nutrition-11-12-2013-4944
END:VEVENT

END:VCALENDAR
