BEGIN:VCALENDAR
VERSION:2.0
PRODID:-//ChamberMaster//Event Calendar 2.0//EN
METHOD:PUBLISH
X-PUBLISHED-TTL:P3D
REFRESH-INTERVAL:P3D
CALSCALE:GREGORIAN
BEGIN:VEVENT
DTSTART:20150417T150000Z
DTEND:20150419T000000Z
X-MICROSOFT-CDO-ALLDAYEVENT:FALSE
SUMMARY:Dixie Quilt Guild Quilt Festival
DESCRIPTION:The Dixie Quilt Guild Quilt Festival features more than 90 exhibition quilts and 0 judged quilts made by local Dixie Quilt Guild members\, many nationally and internationally known.  Awards will be given in 9 categories.  Bid on the silent auction and shop the vendor mall for take-home treasures.
X-ALT-DESC;FMTTYPE=text/html:The Dixie Quilt Guild Quilt Festival features more than 90 exhibition quilts and 0 judged quilts made by local Dixie Quilt Guild members\, many nationally and internationally known. &nbsp\;Awards will be given in 9 categories. &nbsp\;Bid on the silent auction and shop the vendor mall for take-home treasures.
LOCATION:Dixie Convention Center 1835 Convention Center Drive St. George
UID:e.1117.6374
SEQUENCE:3
DTSTAMP:20260420T173148Z
URL:https://business.stgeorgechamber.com/events/details/dixie-quilt-guild-quilt-festival-04-17-2015-6374
END:VEVENT

END:VCALENDAR
