BEGIN:VCALENDAR
VERSION:2.0
PRODID:-//ChamberMaster//Event Calendar 2.0//EN
METHOD:PUBLISH
X-PUBLISHED-TTL:P3D
REFRESH-INTERVAL:P3D
CALSCALE:GREGORIAN
BEGIN:VEVENT
DTSTART:20150418T160000Z
DTEND:20150419T010000Z
X-MICROSOFT-CDO-ALLDAYEVENT:FALSE
SUMMARY:Dixie Power Kite Festival
DESCRIPTION:The Dixie Power Kite Festival aims to promote reading as a habit and encourage students to engage in family-oriented physical activity. On the day of the event\, qualifying students earn a high-quality kite or book for their reading efforts.
X-ALT-DESC;FMTTYPE=text/html:<span style="font-size:14px\;"><span style="font-family:arial\;">The Dixie Power Kite Festival aims to promote reading as a habit and encourage students to engage in family-oriented physical activity. On the day of the event\, qualifying students earn a high-quality kite or book for their reading efforts.</span></span>
LOCATION:SunRiver Golf Course
UID:e.1117.6373
SEQUENCE:3
DTSTAMP:20260420T173054Z
URL:https://business.stgeorgechamber.com/events/details/dixie-power-kite-festival-04-18-2015-6373
END:VEVENT

END:VCALENDAR
