BEGIN:VCALENDAR
VERSION:2.0
PRODID:-//ChamberMaster//Event Calendar 2.0//EN
METHOD:PUBLISH
X-PUBLISHED-TTL:P3D
REFRESH-INTERVAL:P3D
CALSCALE:GREGORIAN
BEGIN:VEVENT
DTSTART:20130529T230000Z
DTEND:20130530T003000Z
X-MICROSOFT-CDO-ALLDAYEVENT:FALSE
SUMMARY:Dixie Power Annual Meeting
DESCRIPTION:The annual report to members of Dixie Power will be held for members in the St. George\, Washington Fields\, Sand Hollow\, and Dixie Springs areas. A free dinner is served from 5:00 pm to 6:30 pm with the business meeting beginning at 6:00 pm.
X-ALT-DESC;FMTTYPE=text/html:<span style="color: rgb(51\, 51\, 51)\; font-family: verdana\; font-size: 14px\; line-height: 20px\;">The annual report to members of Dixie Power will be held for members in the St. George\, Washington Fields\, Sand Hollow\, and Dixie Springs areas. A free dinner is served from 5:00 pm to 6:30 pm with the business meeting beginning at 6:00 pm.</span>
LOCATION:Dixie Center Ballroom Dixie Convention Center 1835 Convention Center Drive
UID:e.1117.2963
SEQUENCE:3
DTSTAMP:20260422T054938Z
URL:https://business.stgeorgechamber.com/events/details/dixie-power-annual-meeting-05-29-2013-2963
END:VEVENT

END:VCALENDAR
