BEGIN:VCALENDAR
VERSION:2.0
PRODID:-//ChamberMaster//Event Calendar 2.0//EN
METHOD:PUBLISH
X-PUBLISHED-TTL:P3D
REFRESH-INTERVAL:P3D
CALSCALE:GREGORIAN
BEGIN:VEVENT
DTSTART:20130427T160000Z
DTEND:20130427T213000Z
X-MICROSOFT-CDO-ALLDAYEVENT:FALSE
SUMMARY:Dixie Garden Tour 2013
DESCRIPTION:"How deeply seated in the human heart is the liking for gardens and gardening." ~Alexander Smith.\n\n	The Dixie Garden Tour 2013 is previewing 10 beautifully diverse gardens throughout the Washington Fields area. Get inspired\, gain ideas and enjoy the beauty of nature. All proceeds go to the Dixie State College Scholarship Fund. Tickets are available at the following locations: Star Nursery (both locations)\, Sandia Green House and Community Education Office.
X-ALT-DESC;FMTTYPE=text/html:<p class="MsoNormal" style="margin: 0in 0in 0pt">\n	<span style="font-family: 'kristen itc'\; font-size: 11pt"><font color="#000000">&ldquo\;How deeply seated in the human heart is the liking for gardens and gardening.&rdquo\; ~Alexander Smith.<o:p></o:p></font></span></p>\n<p class="MsoNormal" style="margin: 0in 0in 0pt">\n	<span style="font-family: 'kristen itc'\; font-size: 11pt"><font color="#000000">The Dixie Garden Tour 2013 is previewing 10 beautifully diverse gardens throughout the Washington Fields area. Get inspired\, gain ideas and enjoy the beauty of nature. All proceeds go to the Dixie State College Scholarship Fund. Tickets are available at the following locations: Star Nursery (both locations)\, Sandia Green House and Community Education Office. <o:p></o:p></font></span></p>\n
LOCATION:Washington Fields
UID:e.1117.2551
SEQUENCE:3
DTSTAMP:20260422T060454Z
URL:https://business.stgeorgechamber.com/events/details/dixie-garden-tour-2013-04-27-2013-2551
END:VEVENT

END:VCALENDAR
