BEGIN:VCALENDAR
VERSION:2.0
PRODID:-//ChamberMaster//Event Calendar 2.0//EN
METHOD:PUBLISH
X-PUBLISHED-TTL:P3D
REFRESH-INTERVAL:P3D
CALSCALE:GREGORIAN
BEGIN:VEVENT
DTSTART:20141209T070000Z
DTEND:20141209T080000Z
X-MICROSOFT-CDO-ALLDAYEVENT:FALSE
SUMMARY:Dixie Forum: A Window to the World
DESCRIPTION:Speaker:  Lin Alder\n\nTopic:  Energy Efficiency
X-ALT-DESC;FMTTYPE=text/html:Speaker: &nbsp\;Lin Alder<br />\nTopic: &nbsp\;Energy Efficiency
LOCATION:Dixie State University Dunford Auditorium
UID:e.1117.6113
SEQUENCE:3
DTSTAMP:20260420T233015Z
URL:https://business.stgeorgechamber.com/events/details/dixie-forum-a-window-to-the-world-12-09-2014-6113
END:VEVENT

END:VCALENDAR
