BEGIN:VCALENDAR
VERSION:2.0
PRODID:-//ChamberMaster//Event Calendar 2.0//EN
METHOD:PUBLISH
X-PUBLISHED-TTL:P3D
REFRESH-INTERVAL:P3D
CALSCALE:GREGORIAN
BEGIN:VEVENT
DTSTART:20141202T070000Z
DTEND:20141202T080000Z
X-MICROSOFT-CDO-ALLDAYEVENT:FALSE
SUMMARY:Dixie Forum: A Window to the World
DESCRIPTION:Speaker:  Del Parson\n\nTopic:  Fine Art Painting
X-ALT-DESC;FMTTYPE=text/html:Speaker: &nbsp\;Del Parson<br />\nTopic: &nbsp\;Fine Art Painting
LOCATION:Dixie State University Dunford Auditorium
UID:e.1117.6112
SEQUENCE:3
DTSTAMP:20260420T232906Z
URL:https://business.stgeorgechamber.com/events/details/dixie-forum-a-window-to-the-world-12-02-2014-6112
END:VEVENT

END:VCALENDAR
