BEGIN:VCALENDAR
VERSION:2.0
PRODID:-//ChamberMaster//Event Calendar 2.0//EN
METHOD:PUBLISH
X-PUBLISHED-TTL:P3D
REFRESH-INTERVAL:P3D
CALSCALE:GREGORIAN
BEGIN:VEVENT
DTSTART:20131119T190000Z
DTEND:20131119T200000Z
X-MICROSOFT-CDO-ALLDAYEVENT:FALSE
SUMMARY:Dixie Forum: A Window to the World
DESCRIPTION:Dixie State University's weekly "Dixie Forum: A Window on the World" series crosses the finish line for 2013 fall semester with a special presentation on the history of the St. George marathon\, as told by local fitness expert and runner Debbie Zockoll. \n\n	\n\n	A native of St. George\, Ms. Zockoll is the only person to have completed all 38 editions of the famed October Washington County road race\, and has completed more than 220 marathons overall. She has taught first grade in Washington County School District for 30 years and serves on the WSCD board. Zockoll is also passionate about fitness and is currently employed as a hike guide at Biggest Loser Fitness Ridge in St. George.
X-ALT-DESC;FMTTYPE=text/html:<p>\n	<span style="font-family:tahoma\,sans-serif\;"><span style="font-size:14px\;"><span style="font-family:arial\;">Dixie State University&rsquo\;s weekly &ldquo\;Dixie Forum: A Window on the World&rdquo\; series crosses the finish line for 2013 fall semester with a special presentation on the history of the St. George marathon\, as told by local fitness expert and runner Debbie Zockoll.&nbsp\;<br />\n	<br />\n	A native of St. George\, Ms. Zockoll is the only person to have completed all 38 editions of the famed October Washington County road race\, and has completed more than 220 marathons overall. She has taught first grade in Washington County&nbsp\;School District for 30 years and serves on the WSCD board. Zockoll is also passionate about fitness and is currently employed as a hike guide at Biggest Loser Fitness Ridge in St. George.</span></span></span></p>\n
LOCATION:Dixie State University Dunford Auditorium of the Browning Resource Center
UID:e.1117.4959
SEQUENCE:3
DTSTAMP:20260421T194708Z
URL:https://business.stgeorgechamber.com/events/details/dixie-forum-a-window-to-the-world-11-19-2013-4959
END:VEVENT

END:VCALENDAR
