BEGIN:VCALENDAR
VERSION:2.0
PRODID:-//ChamberMaster//Event Calendar 2.0//EN
METHOD:PUBLISH
X-PUBLISHED-TTL:P3D
REFRESH-INTERVAL:P3D
CALSCALE:GREGORIAN
BEGIN:VEVENT
DTSTART:20151117T070000Z
DTEND:20151117T080000Z
X-MICROSOFT-CDO-ALLDAYEVENT:FALSE
SUMMARY:Dixie Forum: A Window to the World
DESCRIPTION:Learn how songs work when singer/songwriter Bernice Lewis presents "The Anatomy & Physiology of Song" and offers an acoustic guitar performance at Dixie State University's weekly lecture series "Dixie Forum: A Window on the World." \n\n\n\nDuring her Dixie Forum presentation\, Lewis will offer a lecture and demonstration about how the structure of contemporary song evolved over history. Using her own songs\, the touring artist will deconstruct the contemporary form. Additionally\, she will analyze the components\, storyline and use of poetic devices\, chord structure and melody. \n\n\n\nIn addition to performing for almost four decades and releasing more than half a dozen acclaimed CDs\, Lewis is a published poet\, producer and an educator extraordinaire. Lewis   who studied vocal improvisation with Bobby McFerrin\, guitar technique with Alex DeGrassi and Guy van Duser\, and songwriting with Rosanne Cash and Cris Williamson   has been a featured performer on NPR's "Mountain Stage" program as well as at the Kennedy Center. \n\n\n\nLewis is the artist associate in songwriting at Williams College in Williamstown\, Mass. She also teaches at Colorado College in Colorado Springs\, Colo.\, and Rock On Camp at Berkshire Community College in Pittsfield\, Mass. Additionally\, she is a founding member of The Ladies Auxiliary Ukulele Orchestra. \n\n\n\nDixie Forum is a weekly lecture series designed to introduce the St. George community and DSU students\, faculty and staff to diverse ideas and personalities while widening their worldviews via a 50-minute presentation. Dixie Forum will be on recess next week as students and faculty prepare for Thanksgiving Break\, but will resume at noon on Tuesday\, Dec. 1\, in the Dunford Auditorium with a presentation from Eric Thacker.
X-ALT-DESC;FMTTYPE=text/html:<p><span style="color:#000000\;"><span style="font-size:14px\;"><span style="font-family: Tahoma\, Geneva\, sans-serif\; line-height: normal\;">Learn how songs work when singer/songwriter Bernice Lewis presents &quot\;The Anatomy &amp\; Physiology of Song&quot\; and offers an acoustic guitar performance at Dixie State University&#39\;s weekly lecture series &quot\;Dixie Forum: A Window on the World.&quot\;&nbsp\;</span><br style="font-family: Tahoma\, Geneva\, sans-serif\; color: rgb(0\, 0\, 0)\; font-size: 12px\; line-height: normal\;" />\n<br style="font-family: Tahoma\, Geneva\, sans-serif\; color: rgb(0\, 0\, 0)\; font-size: 12px\; line-height: normal\;" />\n<span style="font-family: Tahoma\, Geneva\, sans-serif\; line-height: normal\;">During her Dixie Forum presentation\, Lewis will offer a lecture and demonstration about how the structure of contemporary song evolved over history. Using her own songs\, the touring artist will deconstruct the contemporary form. Additionally\, she will analyze the components\, storyline and use of poetic devices\, chord structure and melody.&nbsp\;</span><br style="font-family: Tahoma\, Geneva\, sans-serif\; color: rgb(0\, 0\, 0)\; font-size: 12px\; line-height: normal\;" />\n<br style="font-family: Tahoma\, Geneva\, sans-serif\; color: rgb(0\, 0\, 0)\; font-size: 12px\; line-height: normal\;" />\n<span style="font-family: Tahoma\, Geneva\, sans-serif\; line-height: normal\;">In addition to performing for almost four decades and releasing more than half a dozen acclaimed CDs\, Lewis is a published poet\, producer and an educator extraordinaire. Lewis &mdash\; who studied vocal improvisation with Bobby McFerrin\, guitar technique with Alex DeGrassi and Guy van Duser\, and songwriting with Rosanne Cash and Cris Williamson &mdash\; has been a featured performer on NPR&#39\;s &quot\;Mountain Stage&quot\; program as well as at the Kennedy Center.&nbsp\;</span><br style="font-family: Tahoma\, Geneva\, sans-serif\; color: rgb(0\, 0\, 0)\; font-size: 12px\; line-height: normal\;" />\n<br style="font-family: Tahoma\, Geneva\, sans-serif\; color: rgb(0\, 0\, 0)\; font-size: 12px\; line-height: normal\;" />\n<span style="font-family: Tahoma\, Geneva\, sans-serif\; line-height: normal\;">Lewis is the artist associate in songwriting at Williams College in Williamstown\, Mass. She also teaches at Colorado College in Colorado Springs\, Colo.\, and Rock On Camp at Berkshire Community College in Pittsfield\, Mass. Additionally\, she is a founding member of The Ladies Auxiliary Ukulele Orchestra.&nbsp\;</span><br style="font-family: Tahoma\, Geneva\, sans-serif\; color: rgb(0\, 0\, 0)\; font-size: 12px\; line-height: normal\;" />\n<br style="font-family: Tahoma\, Geneva\, sans-serif\; color: rgb(0\, 0\, 0)\; font-size: 12px\; line-height: normal\;" />\n<span style="font-family: Tahoma\, Geneva\, sans-serif\; line-height: normal\;">Dixie Forum is a weekly lecture series designed to introduce the St. George community and DSU students\, faculty and staff to diverse ideas and personalities while widening their worldviews via a 50-minute presentation. Dixie Forum will be on recess next week as students and faculty prepare for Thanksgiving Break\, but will resume at noon on Tuesday\, Dec. 1\, in the Dunford Auditorium with a presentation from Eric Thacker.&nbsp\;</span></span></span></p>\n
LOCATION:Dixie State University Dunford Auditorium
UID:e.1117.7341
SEQUENCE:3
DTSTAMP:20260420T050929Z
URL:https://business.stgeorgechamber.com/events/details/dixie-forum-a-window-to-the-world-11-17-2015-7341
END:VEVENT

END:VCALENDAR
