BEGIN:VCALENDAR
VERSION:2.0
PRODID:-//ChamberMaster//Event Calendar 2.0//EN
METHOD:PUBLISH
X-PUBLISHED-TTL:P3D
REFRESH-INTERVAL:P3D
CALSCALE:GREGORIAN
BEGIN:VEVENT
DTSTART:20141104T070000Z
DTEND:20141104T080000Z
X-MICROSOFT-CDO-ALLDAYEVENT:FALSE
SUMMARY:Dixie Forum: A Window to the World
DESCRIPTION:Speaker:  Rico Del Sesto\n\nTopic:  The Future of Science
X-ALT-DESC;FMTTYPE=text/html:Speaker: &nbsp\;Rico Del Sesto<br />\nTopic: &nbsp\;The Future of Science
LOCATION:Dixie State University Dunford Auditorium
UID:e.1117.6110
SEQUENCE:3
DTSTAMP:20260421T010656Z
URL:https://business.stgeorgechamber.com/events/details/dixie-forum-a-window-to-the-world-11-04-2014-6110
END:VEVENT

END:VCALENDAR
