BEGIN:VCALENDAR
VERSION:2.0
PRODID:-//ChamberMaster//Event Calendar 2.0//EN
METHOD:PUBLISH
X-PUBLISHED-TTL:P3D
REFRESH-INTERVAL:P3D
CALSCALE:GREGORIAN
BEGIN:VEVENT
DTSTART:20141021T060000Z
DTEND:20141021T070000Z
X-MICROSOFT-CDO-ALLDAYEVENT:FALSE
SUMMARY:Dixie Forum: A Window to the World
DESCRIPTION:Speaker:  Dr. Lincoln Nadauld and Brian Cauldwell and Aston Basile\n\nTopic:  Cutting Edge Cancer Research:  A Report from Stanford University
X-ALT-DESC;FMTTYPE=text/html:Speaker: &nbsp\;Dr. Lincoln Nadauld and Brian Cauldwell and Aston Basile<br />\nTopic: &nbsp\;Cutting Edge Cancer Research: &nbsp\;A Report from Stanford University
LOCATION:Dixie State University Dunford Auditorium
UID:e.1117.6108
SEQUENCE:3
DTSTAMP:20260421T025740Z
URL:https://business.stgeorgechamber.com/events/details/dixie-forum-a-window-to-the-world-10-21-2014-6108
END:VEVENT

END:VCALENDAR
