BEGIN:VCALENDAR
VERSION:2.0
PRODID:-//ChamberMaster//Event Calendar 2.0//EN
METHOD:PUBLISH
X-PUBLISHED-TTL:P3D
REFRESH-INTERVAL:P3D
CALSCALE:GREGORIAN
BEGIN:VEVENT
DTSTART:20141007T060000Z
DTEND:20141007T070000Z
X-MICROSOFT-CDO-ALLDAYEVENT:FALSE
SUMMARY:Dixie Forum: A Window to the World
DESCRIPTION:Speaker:  Annie Henrie\n\nTopic:  Fine Art Painting
X-ALT-DESC;FMTTYPE=text/html:Speaker: &nbsp\;Annie Henrie<br />\nTopic: &nbsp\;Fine Art Painting
LOCATION:Dixie State University Dunford Auditorium
UID:e.1117.6107
SEQUENCE:3
DTSTAMP:20260421T042744Z
URL:https://business.stgeorgechamber.com/events/details/dixie-forum-a-window-to-the-world-10-07-2014-6107
END:VEVENT

END:VCALENDAR
