BEGIN:VCALENDAR
VERSION:2.0
PRODID:-//ChamberMaster//Event Calendar 2.0//EN
METHOD:PUBLISH
X-PUBLISHED-TTL:P3D
REFRESH-INTERVAL:P3D
CALSCALE:GREGORIAN
BEGIN:VEVENT
DTSTART:20151006T060000Z
DTEND:20151006T070000Z
X-MICROSOFT-CDO-ALLDAYEVENT:FALSE
SUMMARY:Dixie Forum: A Window to the World
DESCRIPTION:Today's Dixie Forum will feature Utah Shakespeare Festival Group Topic: Panel Discussion\n\n \n\nDixie Forum is a lecture series designed to introduce the St. George community and DSU students\, faculty and staff to diverse ideas and personalities while widening their worldviews via a 50-minute presentation. \n\n\n\nThe remainder of the spring Dixie Forum schedule is below. All forums will be at noon on Tuesdays in the Dunford Auditorium of the Browning Resource Center on the DSU campus. \n\n\n\nTuesday\, October 13 from 12:00 p.m. - 12:50 p.m. Speaker(s): No Forum (Fall Break) Topic: No Forum (Fall Break)\n\nTuesday\, October 20 from 12:00 p.m. - 12:50 p.m. Speaker(s): Fernando Rubio Topic: Learning Languages in the Age of Connectedness\n\nTuesday\, October 27 from 12:00 p.m. - 12:50 p.m. Speaker(s): Lauren K. Alleyne Topic: Poetry Reading and Q&A\n\nTuesday\, November 3 from 12:00 p.m. - 12:50 p.m. Speaker(s): Alan Harker Topic: Small and Simple Things that Rule the World\n\nTuesday\, November 10 from 12:00 p.m. - 12:50 p.m. Speaker(s): Bradford Lee Eden Topic: Tolkien\n\nTuesday\, November 17 from 12:00 p.m. - 12:50 p.m. Speaker(s): No Forum Topic: No Forum\n\nTuesday\, November 24 from 12:00 p.m. - 12:50 p.m. Speaker(s): No Forum (Thanksgiving) Topic: No Forum (Thanksgiving)\n\nTuesday\, December 1 from 12:00 p.m. - 12:50 p.m. Speaker(s): Eric Thacker Topic: TBA\n\nTuesday\, December 8 from 12:00 p.m. - 12:50 p.m. Speaker(s): Frederick Crook Topic: The China Dream: An Interpretation of Contemporary Wall Posters\n\nTuesday\, December 15 from 12:00 p.m. - 12:50 p.m. Speaker(s): No Forum (Finals week) Topic: No Forum (Finals week)
X-ALT-DESC;FMTTYPE=text/html:<p><span style="font-size:14px\;"><span style="font-family:arial\;"><span style="line-height: 20.8px\;">Today&#39\;s Dixie Forum will </span><span style="line-height: 20.8px\;">feature</span></span></span><span style="font-family: arial\; font-size: 14px\; line-height: 22.4px\;">&nbsp\;Utah Shakespeare Festival Group Topic: Panel Dis</span><span style="font-family: arial\; font-size: 14px\; line-height: 22.4px\;">cussion</span><br />\n<span style="font-size:14px\;"><span style="font-family:arial\;"><span style="line-height: 20.8px\;">&nbsp\;</span><br />\nDixie Forum is a lecture series designed to introduce the St. George community and DSU students\, faculty and staff to diverse ideas and personalities while widening their worldviews via a 50-minute presentation.&nbsp\;<br />\n<br />\nThe remainder of the spring Dixie Forum schedule is below. All forums will be at&nbsp\;<span data-term="goog_1932431726" style="border-bottom-width:1px\;border-bottom-style:dashed\;position:relative\;top:-2px\;z-index:0\;" tabindex="0"><span style="position:relative\;top:2px\;z-index:-1\;">noon</span></span>&nbsp\;on Tuesdays in the Dunford Auditorium of the Browning Resource Center on the DSU campus.&nbsp\;<br />\n<br />\nTuesday\, October 13 from 12:00 p.m. - 12:50 p.m. Speaker(s): No Forum (Fall Break) Topic: No Forum (Fall Break)<br />\nTuesday\, October 20 from 12:00 p.m. - 12:50 p.m. Speaker(s): Fernando Rubio Topic: Learning Languages in the Age of Connectedness<br />\nTuesday\, October 27 from 12:00 p.m. - 12:50 p.m. Speaker(s): Lauren K. Alleyne Topic: Poetry Reading and Q&amp\;A<br />\nTuesday\, November 3 from 12:00 p.m. - 12:50 p.m. Speaker(s): Alan Harker Topic: Small and Simple Things that Rule the World<br />\nTuesday\, November 10 from 12:00 p.m. - 12:50 p.m. Speaker(s): Bradford Lee Eden Topic: Tolkien<br />\nTuesday\, November 17 from 12:00 p.m. - 12:50 p.m. Speaker(s): No Forum Topic: No Forum<br />\nTuesday\, November 24 from 12:00 p.m. - 12:50 p.m. Speaker(s): No Forum (Thanksgiving) Topic: No Forum (Thanksgiving)<br />\nTuesday\, December 1 from 12:00 p.m. - 12:50 p.m. Speaker(s): Eric Thacker Topic: TBA<br />\nTuesday\, December 8 from 12:00 p.m. - 12:50 p.m. Speaker(s): Frederick Crook Topic: The China Dream: An Interpretation of Contemporary Wall Posters<br />\nTuesday\, December 15 from 12:00 p.m. - 12:50 p.m. Speaker(s): No Forum (Finals week) Topic: No Forum (Finals week)</span></span></p>\n
LOCATION:Dixie State University Dunford Auditorium
UID:e.1117.7090
SEQUENCE:3
DTSTAMP:20260420T065053Z
URL:https://business.stgeorgechamber.com/events/details/dixie-forum-a-window-to-the-world-10-06-2015-7090
END:VEVENT

END:VCALENDAR
