BEGIN:VCALENDAR
VERSION:2.0
PRODID:-//ChamberMaster//Event Calendar 2.0//EN
METHOD:PUBLISH
X-PUBLISHED-TTL:P3D
REFRESH-INTERVAL:P3D
CALSCALE:GREGORIAN
BEGIN:VEVENT
DTSTART:20140930T060000Z
DTEND:20140930T070000Z
X-MICROSOFT-CDO-ALLDAYEVENT:FALSE
SUMMARY:Dixie Forum: A Window to the World
DESCRIPTION:Speaker:  Glen Blakely\n\nTopic:  Ceramic Art and Glen Blakely Wisdom
X-ALT-DESC;FMTTYPE=text/html:Speaker: &nbsp\;Glen Blakely<br />\nTopic: &nbsp\;Ceramic Art and Glen Blakely Wisdom
LOCATION:Dixie State University Dunford Auditorium
UID:e.1117.6106
SEQUENCE:3
DTSTAMP:20260421T054759Z
URL:https://business.stgeorgechamber.com/events/details/dixie-forum-a-window-to-the-world-09-30-2014-6106
END:VEVENT

END:VCALENDAR
