BEGIN:VCALENDAR
VERSION:2.0
PRODID:-//ChamberMaster//Event Calendar 2.0//EN
METHOD:PUBLISH
X-PUBLISHED-TTL:P3D
REFRESH-INTERVAL:P3D
CALSCALE:GREGORIAN
BEGIN:VEVENT
DTSTART:20140923T160000Z
DTEND:20140923T170000Z
X-MICROSOFT-CDO-ALLDAYEVENT:FALSE
SUMMARY:Dixie Forum: A Window to the World
DESCRIPTION:Speaker:  Clark Gilbert (CEO of Deseret News)\n\nTopic:  Innovation in the Media
X-ALT-DESC;FMTTYPE=text/html:Speaker: &nbsp\;Clark Gilbert (CEO of Deseret News)<br />\nTopic: &nbsp\;Innovation in the Media
LOCATION:Dixie State University Zion Room
UID:e.1117.6105
SEQUENCE:3
DTSTAMP:20260421T054215Z
URL:https://business.stgeorgechamber.com/events/details/dixie-forum-a-window-to-the-world-09-23-2014-6105
END:VEVENT

END:VCALENDAR
