BEGIN:VCALENDAR
VERSION:2.0
PRODID:-//ChamberMaster//Event Calendar 2.0//EN
METHOD:PUBLISH
X-PUBLISHED-TTL:P3D
REFRESH-INTERVAL:P3D
CALSCALE:GREGORIAN
BEGIN:VEVENT
DTSTART:20150915T060000Z
DTEND:20150915T070000Z
X-MICROSOFT-CDO-ALLDAYEVENT:FALSE
SUMMARY:Dixie Forum: A Window to the World
DESCRIPTION:Dixie State University's weekly "Dixie Forum: A Window on the World" series continues this week with a lecture examining the basic facts pertaining to economic growth around the world.\n\n\n\nDr. Phillip Garner\, an assistant professor in Dixie State's Department of Business\, will present from noon to 12:50 p.m. on Tuesday\, Sept. 15\, at the Dunford Auditorium in the Browning Resource Center on the DSU campus. \n\n\n\nThrough exploring various hypotheses that have been put forward as explanations for the wealth and poverty of nations\, the forum will look at why some countries are rich and others are poor. Additionally\, Garner will discuss why the world is much wealthier today than it was in the past\, as the standard of living that richer countries of the world enjoy today would have been unimaginable to citizens' distant ancestors. As part of this discussion\, the forum will address why not all countries have shared equally in the economic growth of the last two centuries.\n\n\n\nA native of Las Vegas\, Garner received a bachelor's degree in economics from Brigham Young University and a doctorate in economics from Brown University. He has extensively researched economic growth and development. Additionally\, Garner has published several academic articles on economic growth and has presented his research in conferences at Harvard and Oxford universities.\n\n\n\nDixie Forum is a weekly lecture series designed to introduce the St. George community and DSU students\, faculty and staff to diverse ideas and personalities while widening their worldviews via a 50-minute presentation. Next week\, Dixie Forum will continue at noon on Tuesday\, Sept. 22\, in the Dunford Auditorium. Dr. Florence Bacabac\, director of Dixie State University's Women's Resource Center\, will present a forum titled "International Women in Focus."\n\n\n\nStay up to date on the forums by liking the Dixie Forum Facebook page at www.facebook.com/dixieforum or following @dixieforum on Twitter.
X-ALT-DESC;FMTTYPE=text/html:<p><span style="font-size:14px\;"><span style="font-family:arial\;">Dixie State University&#39\;s weekly &quot\;Dixie Forum: A Window on the World&quot\; series continues this week with a lecture examining the basic facts pertaining to economic growth around the world.<br />\n<br />\nDr. Phillip Garner\, an assistant professor in Dixie State&#39\;s Department of Business\, will present from noon to 12:50 p.m. on Tuesday\, Sept. 15\, at the Dunford Auditorium in the Browning Resource Center on the DSU campus.&nbsp\;<br />\n<br />\nThrough exploring various hypotheses that have been put forward as explanations for the wealth and poverty of nations\, the forum will look at why some countries are rich and others are poor. Additionally\, Garner will discuss why the world is much wealthier today than it was in the past\, as the standard of living that richer countries of the world enjoy today would have been unimaginable to citizens&#39\; distant ancestors. As part of this discussion\, the forum will address why not all countries have shared equally in the economic growth of the last two centuries.<br />\n<br />\nA native of Las Vegas\, Garner received a bachelor&#39\;s degree in economics from Brigham Young University and a doctorate in economics from Brown University. He has extensively researched economic growth and development. Additionally\, Garner has published several academic articles on economic growth and has presented his research in conferences at Harvard and Oxford universities.<br />\n<br />\nDixie Forum is a weekly lecture series designed to introduce the St. George community and DSU students\, faculty and staff to diverse ideas and personalities while widening their worldviews via a 50-minute presentation. Next week\, Dixie Forum will continue at noon on Tuesday\, Sept. 22\, in the Dunford Auditorium. Dr. Florence Bacabac\, director of Dixie State University&#39\;s Women&#39\;s Resource Center\, will present a forum titled &quot\;International Women in Focus.&quot\;<br />\n<br />\nStay up to date on the forums by liking the Dixie Forum Facebook page at <a href="http://www.facebook.com/dixieforum">www.facebook.com/dixieforum</a> or following @dixieforum on Twitter.&nbsp\;</span></span></p>\n
LOCATION:Dixie State University Dunford Auditorium
UID:e.1117.7087
SEQUENCE:3
DTSTAMP:20260420T101801Z
URL:https://business.stgeorgechamber.com/events/details/dixie-forum-a-window-to-the-world-09-15-2015-7087
END:VEVENT

END:VCALENDAR
