BEGIN:VCALENDAR
VERSION:2.0
PRODID:-//ChamberMaster//Event Calendar 2.0//EN
METHOD:PUBLISH
X-PUBLISHED-TTL:P3D
REFRESH-INTERVAL:P3D
CALSCALE:GREGORIAN
BEGIN:VEVENT
DTSTART:20140909T180000Z
DTEND:20140909T190000Z
X-MICROSOFT-CDO-ALLDAYEVENT:FALSE
SUMMARY:Dixie Forum: A Window to the World
DESCRIPTION:Dixie State University's "Dixie Forum: A Window on the World" series continues with a presentation about fine art painting by Julie Rogers. This special presentation begins at noon and may run until 1:50 p.m. on Tuesday\, Sept. 9\, in the North Plaza building on the DSU campus. Admission is free for all community members\, DSU students\, faculty and staff. \n\n\n\nRogers\, who started drawing and painting as a child and studied fine art at Brigham Young University\, says being a mother has added depth to her work. Through the joys and tears associated with motherhood\, she has been able to better understand the pioneers and children she is particularly fond of painting. \n\n\n\n"I love to record the simple things people do each day and capture the emotion of the moment\," Rogers said. "I love to paint light as it dances around a subject\, especially the human figure. It is my desire to not only paint the physical being\, but the personality and sense of soul." \n\n\n\nDixie Forum is designed to introduce the St. George community and DSU students\, faculty and staff to diverse ideas and personalities while widening their worldviews via a 50-minute presentation. Dixie State students can earn one college credit by signing up for HUM 1000\, attending lectures regularly\, carefully considering the ideas expressed and writing about the presentations. \n\n\n\nThe weekly series will continue its fall slate at noon on Tuesday\, Sept. 16\, when Kai Anderson offers a presentation on Apple computers.
X-ALT-DESC;FMTTYPE=text/html:<span style="font-size:14px\;"><span style="font-family:arial\;"><span style="color: rgb(0\, 0\, 0)\; line-height: normal\;">Dixie State University&#39\;s &quot\;Dixie Forum: A Window on the World&quot\; series continues with a presentation about fine art painting by Julie Rogers. This special presentation begins at noon and may run until 1:50 p.m. on Tuesday\, Sept. 9\, in the North Plaza building on the DSU campus. Admission is free for all community members\, DSU students\, faculty and staff.&nbsp\;</span><br style="font-family: Tahoma\, Geneva\, sans-serif\; color: rgb(0\, 0\, 0)\; font-size: 12px\; line-height: normal\;" />\n<br style="font-family: Tahoma\, Geneva\, sans-serif\; color: rgb(0\, 0\, 0)\; font-size: 12px\; line-height: normal\;" />\n<span style="color: rgb(0\, 0\, 0)\; line-height: normal\;">Rogers\, who started drawing and painting as a child and studied fine art at Brigham Young University\, says being a mother has added depth to her work. Through the joys and tears associated with motherhood\, she has been able to better understand the pioneers and children she is particularly fond of painting.&nbsp\;</span><br style="font-family: Tahoma\, Geneva\, sans-serif\; color: rgb(0\, 0\, 0)\; font-size: 12px\; line-height: normal\;" />\n<br style="font-family: Tahoma\, Geneva\, sans-serif\; color: rgb(0\, 0\, 0)\; font-size: 12px\; line-height: normal\;" />\n<span style="color: rgb(0\, 0\, 0)\; line-height: normal\;">&quot\;I love to record the simple things people do each day and capture the emotion of the moment\,&quot\; Rogers said. &quot\;I love to paint light as it dances around a subject\, especially the human figure. It is my desire to not only paint the physical being\, but the personality and sense of soul.&quot\;&nbsp\;</span><br style="font-family: Tahoma\, Geneva\, sans-serif\; color: rgb(0\, 0\, 0)\; font-size: 12px\; line-height: normal\;" />\n<br style="font-family: Tahoma\, Geneva\, sans-serif\; color: rgb(0\, 0\, 0)\; font-size: 12px\; line-height: normal\;" />\n<span style="color: rgb(0\, 0\, 0)\; line-height: normal\;">Dixie Forum is designed to introduce the St. George community and DSU students\, faculty and staff to diverse ideas and personalities while widening their worldviews via a 50-minute presentation. Dixie State students can earn one college credit by signing up for HUM 1000\, attending lectures regularly\, carefully considering the ideas expressed and writing about the presentations.&nbsp\;</span><br style="font-family: Tahoma\, Geneva\, sans-serif\; color: rgb(0\, 0\, 0)\; font-size: 12px\; line-height: normal\;" />\n<br style="font-family: Tahoma\, Geneva\, sans-serif\; color: rgb(0\, 0\, 0)\; font-size: 12px\; line-height: normal\;" />\n<span style="color: rgb(0\, 0\, 0)\; line-height: normal\;">The weekly series will continue its fall slate at noon on Tuesday\, Sept. 16\, when Kai Anderson offers a presentation on Apple computers.&nbsp\;</span></span></span>
LOCATION:Dixie State University Art Building
UID:e.1117.6103
SEQUENCE:3
DTSTAMP:20260421T043141Z
URL:https://business.stgeorgechamber.com/events/details/dixie-forum-a-window-to-the-world-09-09-2014-6103
END:VEVENT

END:VCALENDAR
