BEGIN:VCALENDAR
VERSION:2.0
PRODID:-//ChamberMaster//Event Calendar 2.0//EN
METHOD:PUBLISH
X-PUBLISHED-TTL:P3D
REFRESH-INTERVAL:P3D
CALSCALE:GREGORIAN
BEGIN:VEVENT
DTSTART:20130903T180000Z
DTEND:20130903T190000Z
X-MICROSOFT-CDO-ALLDAYEVENT:FALSE
SUMMARY:Dixie Forum: A Window to the World
DESCRIPTION:Dixie State University's weekly noontime "Dixie Forum: A Window on the World" series continues this Tuesday\, Sept. 3\, with a presentation entitled "Outdoor Adventure in Southern Utah" by DSU associate professor Dr. Robert G. Snow. \n\n	 \n\n	Dr. Snow has served more than 20 years on the staff of DSU's administrative computing department\, and he is also a PEHR leisure lifestyle activity class instructor. Snow is an outdoors enthusiast and would be considered by many to be a southern Utah native\, but he also has lived\, been educated\, and worked on the Wasatch Front\, southeast Texas\, and Bay Area in California.\n\n	\n\n	The weekly Dixie Forum series will continue its 2013 Fall Semester slate on Tuesday\, Sept. 10\, featuring a presentation by DSU associate professor of English Dr. Stephen B. Armstrong entitled "Understanding the World of Movies."
X-ALT-DESC;FMTTYPE=text/html:<p>\n	<span style="font-size:14px\;"><span style="font-family:arial\;">Dixie State University&#39\;s weekly noontime &quot\;Dixie Forum: A Window on the World&quot\; series continues this Tuesday\, Sept. 3\, with a presentation entitled &ldquo\;Outdoor Adventure in Southern Utah&rdquo\; by DSU associate professor Dr. Robert G. Snow.&nbsp\;<br />\n	&nbsp\;<br />\n	Dr. Snow has served more than 20 years on the staff of DSU&rsquo\;s administrative computing department\, and he is also a PEHR leisure lifestyle activity class instructor. Snow is an outdoors enthusiast and would be considered by many to be a southern Utah native\, but he also has lived\, been educated\, and worked on the Wasatch Front\, southeast Texas\, and Bay Area in California.<br />\n	<br />\n	The weekly Dixie Forum series will continue its 2013 Fall Semester slate on Tuesday\, Sept. 10\, featuring a presentation by DSU associate professor of English Dr. Stephen B. Armstrong entitled &ldquo\;Understanding the World of Movies.&rdquo\;</span></span></p>\n
LOCATION:Dixie State University Dunford Auditorium of the Browning Resource Center
UID:e.1117.4271
SEQUENCE:3
DTSTAMP:20260421T213444Z
URL:https://business.stgeorgechamber.com/events/details/dixie-forum-a-window-to-the-world-09-03-2013-4271
END:VEVENT

END:VCALENDAR
