BEGIN:VCALENDAR
VERSION:2.0
PRODID:-//ChamberMaster//Event Calendar 2.0//EN
METHOD:PUBLISH
X-PUBLISHED-TTL:P3D
REFRESH-INTERVAL:P3D
CALSCALE:GREGORIAN
BEGIN:VEVENT
DTSTART:20150901T060000Z
DTEND:20150901T070000Z
X-MICROSOFT-CDO-ALLDAYEVENT:FALSE
SUMMARY:Dixie Forum: A Window to the World
DESCRIPTION:Do laws apply to war? Is it possible for the secular and divine to balance each other in the context of conflict? Can a holy warrior be holy and legal at the same time? Is Islam a religion of peace or war? What is Jihad\, how can it be legal and is it a struggle to end nationalism? \n\n\n\nThese questions will be discussed Tuesday\, Sept. 1\, when Dixie State University launches its weekly lecture series "Dixie Forum: A Window on the World" for the fall 2015 semester. The presentation will take place from noon to 12:50 at the Dunford Auditorium in the Browning Resource Center on the DSU campus. Admission is free and the public is encouraged to attend. \n\n\n\nShadman Bashir\, a visiting professor of law and international relations at Dixie State University\, will present at the first forum of the 2015-16 academic year. He teaches classes in the Political Science and Criminal Justice departments and Business School and serves as an adviser at the BYU Law School's International Center for Law and Religion Studies. \n\n\n\nA native of the Pakistani tribal region\, Bashir has studied and taught English\, Islamic and U.S. law. His expertise in law and international affairs includes terrorism and conflicts\, South Asian political systems and dynamics\, international security\, unconventional warfare\, humanitarian and aid organizations in South Asia\, comparative laws\, international human trafficking and slavery\, Islamic law\, U.S. immigration law\, and international constitutional laws. \n\n\n\nBashir speaks six languages and multiple dialects. He received a Bachelor of Arts in political science from Edwardes College and a Bachelor of Laws in English and Islamic law from the University of Peshawar\, in Peshawar\, Pakistan. He then moved to the U.S. and received a Master in Law in comparative law from California Western School of Law in San Diego. \n\n\n\nDixie Forum is a weekly lecture series designed to introduce the St. George community and DSU students\, faculty and staff to diverse ideas and personalities while widening their worldviews via a 50-minute presentation. \n\n\n\nNext week\, Dixie Forum will team up with DOCUTAH for the premiere of this year's DOCUTAH Filmmakers Seminars series in the Main Stage Theater of the Eccles Center for the Performing Arts on the DSU campus. Set for noon on Sept. 8\, the opening day of the international documentary film festival\, the seminar will feature filmmakers Dr. Hildegard Elisabeth Keller\, whose film "Whatever Comes Next" is entered in DOCUTAH\, and Kathleen Clair Lee\, a DSU student who entered "The Devil and The Angel" in the festival.
X-ALT-DESC;FMTTYPE=text/html:<p><span style="font-size:14px\;"><span style="font-family:arial\;"><span style="color: rgb(0\, 0\, 0)\; line-height: normal\;">Do laws apply to war? Is it possible for the secular and divine to balance each other in the context of conflict? Can a holy warrior be holy and legal at the same time? Is Islam a religion of peace or war? What is Jihad\, how can it be legal and is it a struggle to end nationalism?&nbsp\;</span><br style="font-family: Tahoma\, Geneva\, sans-serif\; color: rgb(0\, 0\, 0)\; font-size: 12px\; line-height: normal\;" />\n<br style="font-family: Tahoma\, Geneva\, sans-serif\; color: rgb(0\, 0\, 0)\; font-size: 12px\; line-height: normal\;" />\n<span style="color: rgb(0\, 0\, 0)\; line-height: normal\;">These questions will be discussed Tuesday\, Sept. 1\, when Dixie State University launches its weekly lecture series &quot\;Dixie Forum: A Window on the World&quot\; for the fall 2015 semester. The presentation will take place from noon to 12:50 at the Dunford Auditorium in the Browning Resource Center on the DSU campus. Admission is free and the public is encouraged to attend.&nbsp\;</span><br style="font-family: Tahoma\, Geneva\, sans-serif\; color: rgb(0\, 0\, 0)\; font-size: 12px\; line-height: normal\;" />\n<br style="font-family: Tahoma\, Geneva\, sans-serif\; color: rgb(0\, 0\, 0)\; font-size: 12px\; line-height: normal\;" />\n<span style="color: rgb(0\, 0\, 0)\; line-height: normal\;">Shadman Bashir\, a visiting professor of law and international relations at Dixie State University\, will present at the first forum of the 2015-16 academic year. He teaches classes in the Political Science and Criminal Justice departments and Business School and serves as an adviser at the BYU Law School&#39\;s International Center for Law and Religion Studies.&nbsp\;</span><br style="font-family: Tahoma\, Geneva\, sans-serif\; color: rgb(0\, 0\, 0)\; font-size: 12px\; line-height: normal\;" />\n<br style="font-family: Tahoma\, Geneva\, sans-serif\; color: rgb(0\, 0\, 0)\; font-size: 12px\; line-height: normal\;" />\n<span style="color: rgb(0\, 0\, 0)\; line-height: normal\;">A native of the Pakistani tribal region\, Bashir has studied and taught English\, Islamic and U.S. law. His expertise in law and international affairs includes terrorism and conflicts\, South Asian political systems and dynamics\, international security\, unconventional warfare\, humanitarian and aid organizations in South Asia\, comparative laws\, international human trafficking and slavery\, Islamic law\, U.S. immigration law\, and international constitutional laws.&nbsp\;</span><br style="font-family: Tahoma\, Geneva\, sans-serif\; color: rgb(0\, 0\, 0)\; font-size: 12px\; line-height: normal\;" />\n<br style="font-family: Tahoma\, Geneva\, sans-serif\; color: rgb(0\, 0\, 0)\; font-size: 12px\; line-height: normal\;" />\n<span style="color: rgb(0\, 0\, 0)\; line-height: normal\;">Bashir speaks six languages and multiple dialects. He received a Bachelor of Arts in political science from Edwardes College and a Bachelor of Laws in English and Islamic law from the University of Peshawar\, in Peshawar\, Pakistan. He then moved to the U.S. and received a Master in Law in comparative law from California Western School of Law in San Diego.&nbsp\;</span><br style="font-family: Tahoma\, Geneva\, sans-serif\; color: rgb(0\, 0\, 0)\; font-size: 12px\; line-height: normal\;" />\n<br style="font-family: Tahoma\, Geneva\, sans-serif\; color: rgb(0\, 0\, 0)\; font-size: 12px\; line-height: normal\;" />\n<span style="color: rgb(0\, 0\, 0)\; line-height: normal\;">Dixie Forum is a weekly lecture series designed to introduce the St. George community and DSU students\, faculty and staff to diverse ideas and personalities while widening their worldviews via a 50-minute presentation.&nbsp\;</span><br style="font-family: Tahoma\, Geneva\, sans-serif\; color: rgb(0\, 0\, 0)\; font-size: 12px\; line-height: normal\;" />\n<br style="font-family: Tahoma\, Geneva\, sans-serif\; color: rgb(0\, 0\, 0)\; font-size: 12px\; line-height: normal\;" />\n<span style="color: rgb(0\, 0\, 0)\; line-height: normal\;">Next week\, Dixie Forum will team up with DOCUTAH for the premiere of this year&#39\;s DOCUTAH Filmmakers Seminars series in the Main Stage Theater of the Eccles Center for the Performing Arts on the DSU campus. Set for noon on Sept. 8\, the opening day of the international documentary film festival\, the seminar will feature filmmakers Dr. Hildegard Elisabeth Keller\, whose film &quot\;Whatever Comes Next&quot\; is entered in DOCUTAH\, and Kathleen Clair Lee\, a DSU student who entered &quot\;The Devil and The Angel&quot\; in the festival.&nbsp\;</span></span></span></p>\n
LOCATION:Dixie State University Dunford Auditorium
UID:e.1117.7075
SEQUENCE:3
DTSTAMP:20260420T084715Z
URL:https://business.stgeorgechamber.com/events/details/dixie-forum-a-window-to-the-world-09-01-2015-7075
END:VEVENT

END:VCALENDAR
