BEGIN:VCALENDAR
VERSION:2.0
PRODID:-//ChamberMaster//Event Calendar 2.0//EN
METHOD:PUBLISH
X-PUBLISHED-TTL:P3D
REFRESH-INTERVAL:P3D
CALSCALE:GREGORIAN
BEGIN:VEVENT
DTSTART:20140828T180000Z
DTEND:20140828T190000Z
X-MICROSOFT-CDO-ALLDAYEVENT:FALSE
SUMMARY:Dixie Forum: A Window to the World
DESCRIPTION:Dixie State University's Barnum Honors Lecture series kicks off the 2014-2015 school year with a combined presentation with DSU's weekly Dixie Forum: A Window on the World series.\n\nJing Zhang\, one of China's top criminologists\, will speak on "The Span of Cultural Conflict and Crime" at noon Aug. 28 in the Zion room on the 5th floor of Holland Centennial Commons on the DSU campus.\n\nZhang has been dedicated to the study of criminology\, particularly immigrant crimes caused by cultural differences\, for 30 years.\n\nHe worked at the Chinese Academy of Social Sciences\, a think tank affiliated with the State Council of China\, for 10 years before moving to Japan\, where he specialized in the study of crimes committed by Chinese immigrants in Japan from a global perspective and explored new ways of dealing with the cultural conflicts between the two nations.\n\nThe research led to him writing the book "Crime of Foreigners in Japan\," which won the Sixth Kikuta Criminology Award.\n\nAfter returning to China in 2004\, he gained extensive experience dealing with cultural conflicts by participating in and initiating many national research projects that provided the government with theories and solutions of practical significance.\n\nDixie Forum is a lecture series designed to introduce the DSU and St. George communities to diverse ideas and personalities and to widen their world views. Dixie State students can earn one college credit by signing up for HUM 1000\, attending lectures regularly\, carefully considering the ideas expressed and writing about the presentations.\n\nFor more information on DSU's Dixie Forum series\, contact DSU Forum coordinator John Burns at 435-879-4712 or burns@dixie.edu or visit dixie.edu/humanities/dixie_forum.php.\n\nFor information on the Honors Lecture series\, contact lecture coordinator and DSU Associate Professor Melanie Hinton at 435-879-4351 or melanie.hinton@dixie.edu.
X-ALT-DESC;FMTTYPE=text/html:<p><span style="font-size:14px\;"><span style="font-family:arial\;">Dixie State University&rsquo\;s Barnum Honors Lecture series kicks off the 2014-2015 school year with a combined presentation with DSU&rsquo\;s weekly Dixie Forum: A Window on the World series.</span></span></p>\n\n<p><span style="font-size:14px\;"><span style="font-family:arial\;">Jing Zhang\, one of China&rsquo\;s top criminologists\, will speak on &ldquo\;The Span of Cultural Conflict and Crime&rdquo\; at noon Aug. 28 in the Zion room on the 5th floor of Holland Centennial Commons on the DSU campus.</span></span></p>\n\n<p><span style="font-size:14px\;"><span style="font-family:arial\;"><span style="line-height: 1.6\;">Zhang has been dedicated to the study of criminology\, particularly immigrant crimes caused by cultural differences\, for 30 years.</span></span></span></p>\n\n<p><span style="font-size:14px\;"><span style="font-family:arial\;">He worked at the Chinese Academy of Social Sciences\, a think tank affiliated with the State Council of China\, for 10 years before moving to Japan\, where he specialized in the study of crimes committed by Chinese immigrants in Japan from a global perspective and explored new ways of dealing with the cultural conflicts between the two nations.</span></span></p>\n\n<p><span style="font-size:14px\;"><span style="font-family:arial\;">The research led to him writing the book &ldquo\;Crime of Foreigners in Japan\,&rdquo\; which won the Sixth Kikuta Criminology Award.</span></span></p>\n\n<p><span style="font-size:14px\;"><span style="font-family:arial\;">After returning to China in 2004\, he gained extensive experience dealing with cultural conflicts by participating in and initiating many national research projects that provided the government with theories and solutions of practical significance.</span></span></p>\n\n<p><span style="font-size:14px\;"><span style="font-family:arial\;">Dixie Forum is a lecture series designed to introduce the DSU and St. George communities to diverse ideas and personalities and to widen their world views. Dixie State students can earn one college credit by signing up for HUM 1000\, attending lectures regularly\, carefully considering the ideas expressed and writing about the presentations.</span></span></p>\n\n<p><span style="font-size:14px\;"><span style="font-family:arial\;">For more information on DSU&#39\;s Dixie Forum series\, contact DSU Forum coordinator John Burns at 435-879-4712 or <i>burns@dixie.edu</i> or visit <i>dixie.edu/humanities/dixie_forum.php</i>.</span></span></p>\n\n<p><span style="font-size:14px\;"><span style="font-family:arial\;">For information on the Honors Lecture series\, contact lecture coordinator and DSU Associate Professor Melanie Hinton at 435-879-4351 or <i>melanie.hinton@dixie.edu</i>.</span></span></p>\n
LOCATION:Dixie State University Zion room on the 5th floor of Holland Centennial Commons on the DSU campus.
UID:e.1117.6054
SEQUENCE:3
DTSTAMP:20260421T055230Z
URL:https://business.stgeorgechamber.com/events/details/dixie-forum-a-window-to-the-world-08-28-2014-6054
END:VEVENT

END:VCALENDAR
