BEGIN:VCALENDAR
VERSION:2.0
PRODID:-//ChamberMaster//Event Calendar 2.0//EN
METHOD:PUBLISH
X-PUBLISHED-TTL:P3D
REFRESH-INTERVAL:P3D
CALSCALE:GREGORIAN
BEGIN:VEVENT
DTSTART:20150421T060000Z
DTEND:20150421T070000Z
X-MICROSOFT-CDO-ALLDAYEVENT:FALSE
SUMMARY:Dixie Forum: A Window to the World
DESCRIPTION:Today's Dixie Forum will feature Rico E. Del Sesto\, Tracey O'Kelly\, and the Sustainability Committee\, presenting on Earth Day.\n\n \n\nDixie Forum is a lecture series designed to introduce the St. George community and DSU students\, faculty and staff to diverse ideas and personalities while widening their worldviews via a 50-minute presentation.
X-ALT-DESC;FMTTYPE=text/html:<span style="font-family: tahoma\; line-height: 20.7999992370605px\;">Today&#39\;s Dixie Forum will </span><span style="font-family: tahoma\; line-height: 20.7999992370605px\;">feature&nbsp\;</span><span style="font-family: tahoma\; line-height: 20.7999992370605px\;">Rico E. Del Sesto\, Tracey O&#39\;Kelly\, and the Sustainability Committee\, presenting on Earth Day.<br />\n&nbsp\;</span><br />\n<span style="font-family:tahoma\;">Dixie Forum is a lecture series designed to introduce the St. George community and DSU students\, faculty and staff to diverse ideas and personalities while widening their worldviews via a 50-minute presentation.&nbsp\;</span>
LOCATION:Dixie State University Dunford Auditorium
UID:e.1117.6336
SEQUENCE:3
DTSTAMP:20260420T172916Z
URL:https://business.stgeorgechamber.com/events/details/dixie-forum-a-window-to-the-world-04-21-2015-6336
END:VEVENT

END:VCALENDAR
