BEGIN:VCALENDAR
VERSION:2.0
PRODID:-//ChamberMaster//Event Calendar 2.0//EN
METHOD:PUBLISH
X-PUBLISHED-TTL:P3D
REFRESH-INTERVAL:P3D
CALSCALE:GREGORIAN
BEGIN:VEVENT
DTSTART:20140415T180000Z
DTEND:20140415T190000Z
X-MICROSOFT-CDO-ALLDAYEVENT:FALSE
SUMMARY:Dixie Forum: A Window to the World
DESCRIPTION:Marnie Powers-Torrey\, Managing Director\, Book Arts Program at the University of Utah and Red Butte Press\n\n	Topic:  The Art of the Book:  Object\, Text\, Image\, Experience
X-ALT-DESC;FMTTYPE=text/html:<p>\n	<font face="arial"><span style="font-size: 14px\;">Marnie Powers-Torrey\, Managing Director\, Book Arts Program at the University of Utah and Red Butte Press<br />\n	Topic: &nbsp\;The Art of the Book: &nbsp\;Object\, Text\, Image\, Experience</span></font></p>\n
LOCATION:Dixie State University Dunford Auditorium of the Browning Resource Center
UID:e.1117.5037
SEQUENCE:3
DTSTAMP:20260421T125713Z
URL:https://business.stgeorgechamber.com/events/details/dixie-forum-a-window-to-the-world-04-15-2014-5037
END:VEVENT

END:VCALENDAR
